BEGIN:VCALENDAR
VERSION:2.0
PRODID:-//InvisionCommunity Events 4.7.14//EN
METHOD:PUBLISH
CALSCALE:GREGORIAN
REFRESH-INTERVAL:PT15M
X-PUBLISHED-TTL:PT15M
X-WR-CALNAME:The Elder Scrolls Online
NAME:The Elder Scrolls Online
BEGIN:VTIMEZONE
TZID:Europe/London
TZURL:http://tzurl.org/zoneinfo/Europe/London
X-LIC-LOCATION:Europe/London
BEGIN:DAYLIGHT
TZOFFSETFROM:+0000
TZOFFSETTO:+0100
TZNAME:BST
DTSTART:20180325T020000Z
RRULE:FREQ=YEARLY;BYMONTH=3;BYDAY=-1SU
END:DAYLIGHT
BEGIN:STANDARD
TZOFFSETFROM:+0100
TZOFFSETTO:+0000
TZNAME:GMT
DTSTART:20181028T020000Z
RRULE:FREQ=YEARLY;BYMONTH=10;BYDAY=-1SU
END:STANDARD
END:VTIMEZONE
BEGIN:VEVENT
SUMMARY:Мировые боссы РОТГАРА
DTSTAMP:20181120T125345Z
SEQUENCE:1
UID:4576-1-afb15bc42254ad5fb0481ce5e9c8144d@forum.bandits-clan.ru
ORGANIZER;CN="Aquifolius":web@bandits-clan.ru
DESCRIPTION:Пока ещё 
	длится бесп
	латная подп
	иска\, предл
	агаю собраться 
	компанией и закры
	ть всех мировых бос
	сов в Ротгаре (DLC Орси
	ниум). Во-первых\
	, закроем боссо
	в\, во-вторых - 
	выполним еже
	дневные задания 
	на убийство мир
	овых боссов\, дел
	ясь ими друг с 
	другом\, с н
	аградных кофр
	ов есть шанс на 
	получение мест
	ных ремесленных 
	мотивов. Ну и\, 
	заодно\, отк
	роем дорожны
	е святилища\
	, соберём ск
	айшарды по д
	ороге. Требован
	ия: герои любого 
	уровня любого алья
	нса\, тимспик\, таб
	ард\, сбор в гиль
	дхолле. З.Ы. П
	ри наличии в
	ремени и желани
	я\, возможно зак
	рытие мировых боссов 
	в Проклятии Хью\, на Золотом Береге\, в
	 Муркмайре.
DTSTART:20181120T150000Z
ATTENDEE;CN="Aquifolius";CUTYPE=INDIVIDUAL;PARTSTAT=ACCEPTED
	:web@bandits-clan.ru
ATTENDEE;CN="klotik";CUTYPE=INDIVIDUAL;PARTSTAT=ACCEPTED:web
	@bandits-clan.ru
ATTENDEE;CN="avraz79";CUTYPE=INDIVIDUAL;PARTSTAT=ACCEPTED:we
	b@bandits-clan.ru
ATTENDEE;CN="Dormidontovna";CUTYPE=INDIVIDUAL;PARTSTAT=ACCEP
	TED:web@bandits-clan.ru
ATTENDEE;CN="Bagira-Olga";CUTYPE=INDIVIDUAL;PARTSTAT=ACCEPTE
	D:web@bandits-clan.ru
ATTENDEE;CN="drChito";CUTYPE=INDIVIDUAL;PARTSTAT=ACCEPTED:we
	b@bandits-clan.ru
ATTENDEE;CN="Ovsianchik";CUTYPE=INDIVIDUAL;PARTSTAT=ACCEPTED
	:web@bandits-clan.ru
END:VEVENT
END:VCALENDAR
