BEGIN:VCALENDAR
VERSION:2.0
PRODID:-//InvisionCommunity Events 4.7.14//EN
METHOD:PUBLISH
CALSCALE:GREGORIAN
REFRESH-INTERVAL:PT15M
X-PUBLISHED-TTL:PT15M
X-WR-CALNAME:The Elder Scrolls Online
NAME:The Elder Scrolls Online
BEGIN:VTIMEZONE
TZID:Europe/London
TZURL:http://tzurl.org/zoneinfo/Europe/London
X-LIC-LOCATION:Europe/London
BEGIN:DAYLIGHT
TZOFFSETFROM:+0000
TZOFFSETTO:+0100
TZNAME:BST
DTSTART:20180325T020000Z
RRULE:FREQ=YEARLY;BYMONTH=3;BYDAY=-1SU
END:DAYLIGHT
BEGIN:STANDARD
TZOFFSETFROM:+0100
TZOFFSETTO:+0000
TZNAME:GMT
DTSTART:20181028T020000Z
RRULE:FREQ=YEARLY;BYMONTH=10;BYDAY=-1SU
END:STANDARD
END:VTIMEZONE
BEGIN:VEVENT
SUMMARY:(TESO)Рейд статика \"Critical Mass\"
DTSTAMP:20181120T042437Z
SEQUENCE:2
UID:4573-1-afb15bc42254ad5fb0481ce5e9c8144d@forum.bandits-clan.ru
ORGANIZER;CN="DarkVend":web@bandits-clan.ru
DESCRIPTION:В 19:00 по МСК Собираемся на р
	ейд статика \"Critical Mass\".Пл
	анируется пофармит
	ь nCR+3.\nОбязательно
	 к выполнению для ч
	ленов статика:\n1)Сб
	ор в гильдхолле.\n2)Таб
	ард гильдии.\n3)Подгото
	виться к рэйду за 10-
	15мин до его нач
	ала.\n4)Написать
	 роль в комментар
	иях и подтвердить уча
	стие в рейде.(Нужны 2
	 хилера\,2 танка и 8 дд)
	\nАктивный список статика можно увидет
	ь тут http://forum.bandits...showtopic=64045 .\nВсе
	м удачи\, жду вас в рейде!\n@DarkVend
DTSTART:20181124T160000Z
ATTENDEE;CN="VaultBoyRUS";CUTYPE=INDIVIDUAL;PARTSTAT=ACCEPTE
	D:web@bandits-clan.ru
ATTENDEE;CN="halloween13007";CUTYPE=INDIVIDUAL;PARTSTAT=ACCE
	PTED:web@bandits-clan.ru
ATTENDEE;CN="DarkVend";CUTYPE=INDIVIDUAL;PARTSTAT=ACCEPTED:w
	eb@bandits-clan.ru
ATTENDEE;CN="Solomon1916";CUTYPE=INDIVIDUAL;PARTSTAT=ACCEPTE
	D:web@bandits-clan.ru
ATTENDEE;CN="Timiri";CUTYPE=INDIVIDUAL;PARTSTAT=ACCEPTED:web
	@bandits-clan.ru
ATTENDEE;CN="Alvinguard";CUTYPE=INDIVIDUAL;PARTSTAT=ACCEPTED
	:web@bandits-clan.ru
ATTENDEE;CN="Ishogami";CUTYPE=INDIVIDUAL;PARTSTAT=ACCEPTED:w
	eb@bandits-clan.ru
END:VEVENT
END:VCALENDAR
