BEGIN:VCALENDAR
VERSION:2.0
PRODID:-//InvisionCommunity Events 4.7.14//EN
METHOD:PUBLISH
CALSCALE:GREGORIAN
REFRESH-INTERVAL:PT15M
X-PUBLISHED-TTL:PT15M
X-WR-CALNAME:The Elder Scrolls Online
NAME:The Elder Scrolls Online
BEGIN:VTIMEZONE
TZID:Europe/London
TZURL:http://tzurl.org/zoneinfo/Europe/London
X-LIC-LOCATION:Europe/London
BEGIN:DAYLIGHT
TZOFFSETFROM:+0000
TZOFFSETTO:+0100
TZNAME:BST
DTSTART:20180325T020000Z
RRULE:FREQ=YEARLY;BYMONTH=3;BYDAY=-1SU
END:DAYLIGHT
BEGIN:STANDARD
TZOFFSETFROM:+0100
TZOFFSETTO:+0000
TZNAME:GMT
DTSTART:20181028T020000Z
RRULE:FREQ=YEARLY;BYMONTH=10;BYDAY=-1SU
END:STANDARD
END:VTIMEZONE
BEGIN:VEVENT
SUMMARY:[TESO] Фарм рейдик (nSO\, vAA\, nCR)
DTSTAMP:20181119T091001Z
SEQUENCE:2
UID:4568-1-afb15bc42254ad5fb0481ce5e9c8144d@forum.bandits-clan.ru
ORGANIZER;CN="Ando":web@bandits-clan.ru
DESCRIPTION:Событие на 1\,5+ ча
	са. Нормал триалы н
	а выбор группы (н
	ет\, на мой выб
	ор  ). Количе
	ство зависи
	т от подготовл
	енности собравшегося
	 рейда.\nТребуются боль
	шие и сильные (160+ CP).
	 Отметки о прохожден
	ии не ставлю.\nЭТО Н
	Е УЧЕБНЫЙ РЕЙД!!
	! \nУ Вас должны 
	быть отметки 
	о прохождении у
	казанных триало
	в\, или ВЫ должны 
	убедить меня\, что
	 знаете чего та
	м происходит!\nП
	о формату событ
	ия\, я не должен
	 рассказывать Вам такт
	ики\, а просто врываться и
	 дамажить=)\n1-2 танка\n
	2 хила\n8-9 ДД Для данн
	ого события Вам нужно имет
	ь следующие DLC/Главы:\nCl
	oudrest - Глава Са
	ммерсет Больш
	ая просьба: при записи 
	пишем в комментариях свою 
	роль (роли) и User ID (то\, что
	 у вас в игре после @)
	.\nЗаходим в тимс
	пик\, надеваем та
	бард\, чтобы быть
	 красивым и узна
	ваемым\, и соби
	раемся в гильд-х
	оле.\nФармим быстро и кач
	ественно! Для чего\, собственно\, идём:\nTwi
	ce-Fanged Serpent (TFS)\nVicious Serpent (VO)\nInfallible Aether\nHealing 
	Mage (он же Mending)\nVestment of Olorime\nArms of Relequen\nMantle of
	 Siroria\nЗемлю - крестьянам\, заводы 
	- рабочим\, Dagger TFS - РЛу=
	) и другие вкусные и
	 не очень сеты + воз
	можность выполни
	ть weekly квесты в да
	нных триалах и
	 получить камни 
	трансмутации (п
	о 5 за каждого п
	ерсонажа в ка
	ждом триале)\,
	 местные крафт
	овые мотивы и 
	прочую мишуру.
	 Приятная\, друже
	ская\, весёлая атмос
	фера в комплекте=) Фразочки \
	"А Вы точно РЛ?\" не чаще 1 раза в 5 минут
DTSTART:20181123T183000Z
ATTENDEE;CN="Ando";CUTYPE=INDIVIDUAL;PARTSTAT=ACCEPTED:web@b
	andits-clan.ru
ATTENDEE;CN="Tiwildorm";CUTYPE=INDIVIDUAL;PARTSTAT=ACCEPTED:
	web@bandits-clan.ru
ATTENDEE;CN="Ялика";CUTYPE=INDIVIDUAL;PARTSTAT=ACCEPTED
	:web@bandits-clan.ru
ATTENDEE;CN="Canis";CUTYPE=INDIVIDUAL;PARTSTAT=ACCEPTED:web@
	bandits-clan.ru
ATTENDEE;CN="AndreyZotov";CUTYPE=INDIVIDUAL;PARTSTAT=ACCEPTE
	D:web@bandits-clan.ru
ATTENDEE;CN="klotik";CUTYPE=INDIVIDUAL;PARTSTAT=ACCEPTED:web
	@bandits-clan.ru
ATTENDEE;CN="Ragga-Max";CUTYPE=INDIVIDUAL;PARTSTAT=ACCEPTED:
	web@bandits-clan.ru
ATTENDEE;CN="Baltika";CUTYPE=INDIVIDUAL;PARTSTAT=ACCEPTED:we
	b@bandits-clan.ru
ATTENDEE;CN="MinaevNaKone";CUTYPE=INDIVIDUAL;PARTSTAT=ACCEPT
	ED:web@bandits-clan.ru
ATTENDEE;CN="Aleksandr(Шилов)";CUTYPE=INDIVIDUAL;PARTST
	AT=ACCEPTED:web@bandits-clan.ru
ATTENDEE;CN="Ishogami";CUTYPE=INDIVIDUAL;PARTSTAT=ACCEPTED:w
	eb@bandits-clan.ru
ATTENDEE;CN="Krolik5280";CUTYPE=INDIVIDUAL;PARTSTAT=ACCEPTED
	:web@bandits-clan.ru
END:VEVENT
END:VCALENDAR
