BEGIN:VCALENDAR
VERSION:2.0
PRODID:-//InvisionCommunity Events 4.7.14//EN
METHOD:PUBLISH
CALSCALE:GREGORIAN
REFRESH-INTERVAL:PT15M
X-PUBLISHED-TTL:PT15M
X-WR-CALNAME:The Elder Scrolls Online
NAME:The Elder Scrolls Online
BEGIN:VTIMEZONE
TZID:Europe/London
TZURL:http://tzurl.org/zoneinfo/Europe/London
X-LIC-LOCATION:Europe/London
BEGIN:DAYLIGHT
TZOFFSETFROM:+0000
TZOFFSETTO:+0100
TZNAME:BST
DTSTART:20180325T020000Z
RRULE:FREQ=YEARLY;BYMONTH=3;BYDAY=-1SU
END:DAYLIGHT
BEGIN:STANDARD
TZOFFSETFROM:+0100
TZOFFSETTO:+0000
TZNAME:GMT
DTSTART:20181028T020000Z
RRULE:FREQ=YEARLY;BYMONTH=10;BYDAY=-1SU
END:STANDARD
END:VTIMEZONE
BEGIN:VEVENT
SUMMARY:[TESO] Фарм нормал DLC триалов (CR\, MoL\, 
	AS)
DTSTAMP:20181119T090844Z
SEQUENCE:2
UID:4567-1-afb15bc42254ad5fb0481ce5e9c8144d@forum.bandits-clan.ru
ORGANIZER;CN="Ando":web@bandits-clan.ru
DESCRIPTION:Событие на 1\,5+ ча
	са. Нормал триалы н
	а выбор группы (н
	ет\, на мой выб
	ор  ). Количе
	ство зависи
	т от подготовл
	енности собравшегося р
	ейда.\nТребуются большие
	 и сильные (160+ CP).\n
	Рейд полу-учебный. П
	о необходимости расскаж
	у чего к чему.\n1-2 танка
	\n2 хила\n8-9 ДД Для да
	нного события Вам нужн
	о иметь следующие DLC/Главы:\nПасть
	 Лорхаджа (Maw of Lorkhaj) - DLC Гильдия
	 воров\nЗалы фабрикации (Hall of fabricat
	ion) - Глава Морровинд\nCloudrest - Глава Самм
	ерсет\nAsylum Sanctorium - DLC Clockwork city\nУ всех
	 халявный ESO+\, та
	к что с этим 
	проблем не 
	будет Большая 
	просьба: при записи пишем
	 в комментариях свою роль (ро
	ли) и User ID (то\, что у вас в
	 игре после @).\nЗа
	ходим в тимспик\,
	 надеваем табар
	д\, чтобы быть кра
	сивым и узнавае
	мым\, и собираемся
	 в гильд-холе.\nФа
	рмим быстро и качественно! Дл
	я чего\, собственно\, идём: Roar of Alkosh\nVestment o
	f Olorime\nArms of Relequen\nMantle of Siroria\nAsylum Weapons и
	 другие вкусные и не
	 очень сеты + возмо
	жность выполнить
	 weekly квесты в данн
	ых триалах и п
	олучить камни тр
	ансмутации (по 
	5 за каждого пе
	рсонажа в каж
	дом триале)\, 
	местные крафт
	овые мотивы и 
	прочую мишуру.
	 Приятная\, друже
	ская\, весёлая атмос
	фера в комплекте=) Фразочки \
	"А Вы точно РЛ?\" не чаще 1 раза в 5 минут
DTSTART:20181120T183000Z
ATTENDEE;CN="Ando";CUTYPE=INDIVIDUAL;PARTSTAT=ACCEPTED:web@b
	andits-clan.ru
ATTENDEE;CN="Canis";CUTYPE=INDIVIDUAL;PARTSTAT=ACCEPTED:web@
	bandits-clan.ru
ATTENDEE;CN="Tiwildorm";CUTYPE=INDIVIDUAL;PARTSTAT=ACCEPTED:
	web@bandits-clan.ru
ATTENDEE;CN="Ялика";CUTYPE=INDIVIDUAL;PARTSTAT=ACCEPTED
	:web@bandits-clan.ru
ATTENDEE;CN="Tykot";CUTYPE=INDIVIDUAL;PARTSTAT=ACCEPTED:web@
	bandits-clan.ru
ATTENDEE;CN="klotik";CUTYPE=INDIVIDUAL;PARTSTAT=ACCEPTED:web
	@bandits-clan.ru
ATTENDEE;CN="Z1eDog";CUTYPE=INDIVIDUAL;PARTSTAT=ACCEPTED:web
	@bandits-clan.ru
END:VEVENT
END:VCALENDAR
