BEGIN:VCALENDAR
VERSION:2.0
PRODID:-//InvisionCommunity Events 4.7.14//EN
METHOD:PUBLISH
CALSCALE:GREGORIAN
REFRESH-INTERVAL:PT15M
X-PUBLISHED-TTL:PT15M
X-WR-CALNAME:The Elder Scrolls Online
NAME:The Elder Scrolls Online
BEGIN:VTIMEZONE
TZID:Europe/London
TZURL:http://tzurl.org/zoneinfo/Europe/London
X-LIC-LOCATION:Europe/London
BEGIN:DAYLIGHT
TZOFFSETFROM:+0000
TZOFFSETTO:+0100
TZNAME:BST
DTSTART:20180325T020000Z
RRULE:FREQ=YEARLY;BYMONTH=3;BYDAY=-1SU
END:DAYLIGHT
BEGIN:STANDARD
TZOFFSETFROM:+0100
TZOFFSETTO:+0000
TZNAME:GMT
DTSTART:20181028T020000Z
RRULE:FREQ=YEARLY;BYMONTH=10;BYDAY=-1SU
END:STANDARD
END:VTIMEZONE
BEGIN:VEVENT
SUMMARY:[TESO] Фарм триал Normal Cloudrest +0
DTSTAMP:20181119T065213Z
SEQUENCE:2
UID:4566-1-afb15bc42254ad5fb0481ce5e9c8144d@forum.bandits-clan.ru
ORGANIZER;CN="MinaevNaKone":web@bandits-clan.ru
DESCRIPTION:Три фарм захода в 
	nCR+0! Отметок не ставлю\,
	 тактики не разжевываю
	! Требования: 160ЧП+ \, T
	S\, Табард\, Знание основных меха
	ник рейда\, ДПС для ДД 25к+\, Bandits User
	 Interface Состав: 1 Танк\n2 Хила\n9 ДД Оп
	овещения для BUI 2.187:\nVoltaic Overload
	 13 - Через 3 сек
	унды активна
	я панель буд
	ет перегруж
	ена. Подставит
	ь бэк панель\, 
	при появлении
	 перегрузки свапн
	уться на мейн\, н
	е менять пока таймер не до
	йдет до 0 и оповещение не пропадет.\nRoar
	ing Flare on [Name] 7 - Через 2 секунды
	 на [Name] появится горелка и пото
	м рванет через 5 секунд.\nHoa
	rfrost 7 - Вы подняли ветер\
	, сбросить его можно будет через 7 секунд.
	\nPortal to Shadow world: Group 1/2 - Через 2
	 секунды появится портал. Группа 1
	/2 бежит в центр.\nChilling Comet 
	2 - Через 2 секунды на вас упадет
	 комета. Расстак и блок.\nCrushing Da
	rkness 10 - Через 3 секун
	ды на вас будет луч. Кайт
	им его в течении последующих 7 с
	екунд.\nScalding Sunder 2 - Хеви атака боса. Ро
	лл-додж.\nTalon Slice 1 - Г
	рифон царапаецц
	о. Если до оповещения не сд
	елать ролл-додж то уже поздно (650мс)...
	\nNocturnal's Favor 2 - З'маджа да
	ст хеви атаку через
	 2сек+расстояние. Танк не 
	отпускает блок\, дд - труп. Не доджится.\nBan
	eful Barb 1 - Yagra Monstrosity даст дебаф через 1
	200мс. Ролл-додж.\nCorpulence 3 - Yagra Monstr
	osity даст хеви атаку че
	рез 2600мс. Дождаться
	 когда таймер будет
	 на 1 и сделать рол
	л-додж\, ну или драпать от неё в истери
	ке (тоже помогает).
DTSTART:20181120T162000Z
ATTENDEE;CN="MinaevNaKone";CUTYPE=INDIVIDUAL;PARTSTAT=ACCEPT
	ED:web@bandits-clan.ru
ATTENDEE;CN="Canis";CUTYPE=INDIVIDUAL;PARTSTAT=ACCEPTED:web@
	bandits-clan.ru
ATTENDEE;CN="Neuro-Mancer";CUTYPE=INDIVIDUAL;PARTSTAT=ACCEPT
	ED:web@bandits-clan.ru
ATTENDEE;CN="Baltika";CUTYPE=INDIVIDUAL;PARTSTAT=ACCEPTED:we
	b@bandits-clan.ru
ATTENDEE;CN="yura0427";CUTYPE=INDIVIDUAL;PARTSTAT=ACCEPTED:w
	eb@bandits-clan.ru
ATTENDEE;CN="Aktarios";CUTYPE=INDIVIDUAL;PARTSTAT=ACCEPTED:w
	eb@bandits-clan.ru
ATTENDEE;CN="Tykot";CUTYPE=INDIVIDUAL;PARTSTAT=ACCEPTED:web@
	bandits-clan.ru
ATTENDEE;CN="gaffer";CUTYPE=INDIVIDUAL;PARTSTAT=ACCEPTED:web
	@bandits-clan.ru
END:VEVENT
END:VCALENDAR
