BEGIN:VCALENDAR
VERSION:2.0
PRODID:-//InvisionCommunity Events 4.7.14//EN
METHOD:PUBLISH
CALSCALE:GREGORIAN
REFRESH-INTERVAL:PT15M
X-PUBLISHED-TTL:PT15M
X-WR-CALNAME:The Elder Scrolls Online
NAME:The Elder Scrolls Online
BEGIN:VTIMEZONE
TZID:Europe/London
TZURL:http://tzurl.org/zoneinfo/Europe/London
X-LIC-LOCATION:Europe/London
BEGIN:DAYLIGHT
TZOFFSETFROM:+0000
TZOFFSETTO:+0100
TZNAME:BST
DTSTART:20180325T020000Z
RRULE:FREQ=YEARLY;BYMONTH=3;BYDAY=-1SU
END:DAYLIGHT
BEGIN:STANDARD
TZOFFSETFROM:+0100
TZOFFSETTO:+0000
TZNAME:GMT
DTSTART:20181028T020000Z
RRULE:FREQ=YEARLY;BYMONTH=10;BYDAY=-1SU
END:STANDARD
END:VTIMEZONE
BEGIN:VEVENT
SUMMARY:[TESO] Публичные подземелья Домини
	она
DTSTAMP:20181118T225436Z
SEQUENCE:0
UID:4550-1-afb15bc42254ad5fb0481ce5e9c8144d@forum.bandits-clan.ru
ORGANIZER;CN="FreeDown":web@bandits-clan.ru
DESCRIPTION:Приглаш
	аются все желающ
	ие закрыть публичные подземе
	лья в землях Доминиона:\n- Too
	thmaul Gully (Овраг зубодробителей)\, Аур
	идон\n- Rulanyil's Fall (Водопад Руланийл)\, Гр
	иншейд\n- Root Sunder Ruins (Руины Корнево
	й раскол)\, Гратвуд\n- Crimson Cove (
	Багровая бухта)\, Малабал Тор\n
	- The Vile Manse (Оскверн
	енный особняк)\
	, Марка Смерт
	и Прохождение 
	подзмелелья вк
	лючает в себя:\n
	- сбор скайшардо
	в (в каждом подзем
	елье всегда есть од
	ин скайшард\, 3 ск
	айшарда = 1 скил
	лпоинт)\n- вып
	олнение гр
	уппового зад
	ания (в каждо
	м подземелье
	 всегда есть о
	дно групповое за
	дание\, за выполне
	ние которого даю
	т 1 скиллпоинт)\n- 
	выполнение квестов
	\, связанных с подзем
	ельем (обычно 1-2 кв
	еста)\n- убийс
	тво всех б
	оссов (об
	ычно не ме
	нее пяти 
	боссов) Пр
	одолжительно
	сть мероприят
	ия ориентировочн
	о 3 часа. Требова
	ния:\n- уровень пер
	сонажа любой\n- а
	льянс персонаж
	а любой\n- табард 
	(накидка гильдии\,
	 покупается в гильдейском магази
	не)\n- тимспик\, канал &lt\;World Boss Academy&gt\;
DTSTART:20181126T180000Z
ATTENDEE;CN="FreeDown";CUTYPE=INDIVIDUAL;PARTSTAT=ACCEPTED:w
	eb@bandits-clan.ru
ATTENDEE;CN="Dormidontovna";CUTYPE=INDIVIDUAL;PARTSTAT=ACCEP
	TED:web@bandits-clan.ru
ATTENDEE;CN="Kotolypovka";CUTYPE=INDIVIDUAL;PARTSTAT=ACCEPTE
	D:web@bandits-clan.ru
ATTENDEE;CN="Stason2017";CUTYPE=INDIVIDUAL;PARTSTAT=ACCEPTED
	:web@bandits-clan.ru
ATTENDEE;CN="Ovsianchik";CUTYPE=INDIVIDUAL;PARTSTAT=ACCEPTED
	:web@bandits-clan.ru
ATTENDEE;CN="halloween13007";CUTYPE=INDIVIDUAL;PARTSTAT=ACCE
	PTED:web@bandits-clan.ru
ATTENDEE;CN="DakotaDomi";CUTYPE=INDIVIDUAL;PARTSTAT=ACCEPTED
	:web@bandits-clan.ru
END:VEVENT
END:VCALENDAR
