BEGIN:VCALENDAR
VERSION:2.0
PRODID:-//InvisionCommunity Events 4.7.14//EN
METHOD:PUBLISH
CALSCALE:GREGORIAN
REFRESH-INTERVAL:PT15M
X-PUBLISHED-TTL:PT15M
X-WR-CALNAME:The Elder Scrolls Online
NAME:The Elder Scrolls Online
BEGIN:VTIMEZONE
TZID:Europe/London
TZURL:http://tzurl.org/zoneinfo/Europe/London
X-LIC-LOCATION:Europe/London
BEGIN:DAYLIGHT
TZOFFSETFROM:+0000
TZOFFSETTO:+0100
TZNAME:BST
DTSTART:20180325T020000Z
RRULE:FREQ=YEARLY;BYMONTH=3;BYDAY=-1SU
END:DAYLIGHT
BEGIN:STANDARD
TZOFFSETFROM:+0100
TZOFFSETTO:+0000
TZNAME:GMT
DTSTART:20181028T020000Z
RRULE:FREQ=YEARLY;BYMONTH=10;BYDAY=-1SU
END:STANDARD
END:VTIMEZONE
BEGIN:VEVENT
SUMMARY:[TESO] ОТБОЙ?.. Фарм нормал DLC триало
	в
DTSTAMP:20181115T045847Z
SEQUENCE:2
UID:4534-1-afb15bc42254ad5fb0481ce5e9c8144d@forum.bandits-clan.ru
ORGANIZER;CN="Ando":web@bandits-clan.ru
DESCRIPTION:ИЗВИНЯЮСЬ\
	, ВОЗНИКЛИ ДЕЛА В
	ЕЧЕРОМ. СКОРЕЕ 
	ВСЕГО СОБЫТИЕ 
	ОТМЕНИТСЯ\, ЕСЛИ НЕТ
	 - БУДУ СОБИРАТЬ В Ш
	ТАТНОМ РЕЖИМЕ. Событ
	ие на 1\,5+ часа. Нормал т
	риалы на выбор гру
	ппы (нет\, на мо
	й выбор  ). Ко
	личество 
	зависит от
	 подготовленности
	 собравшегося рейда.\n
	Требуются большие и си
	льные (160+ CP). Отметки о
	 прохождении не ста
	влю.\nЭТО НЕ УЧЕБНЫ
	Й РЕЙД!!! \nУ Вас 
	должны быть 
	отметки о прох
	ождении указанн
	ых триалов\, или 
	ВЫ должны убеди
	ть меня\, что знае
	те чего там про
	исходит!\nПо форм
	ату события\, я 
	не должен рассказыв
	ать Вам тактики\, а просто 
	врываться и дамажить=)\n
	1-2 танка\n2 хила\n8-9 
	ДД Для данного 
	события Вам нужно иметь сле
	дующие DLC/Главы:\nПасть Лорхаджа (M
	aw of Lorkhaj) - DLC Гильдия воров\nЗалы фабрика
	ции (Hall of fabrication) - Глава Морровинд
	\nCloudrest - Глава Саммерсет\nAsylum Sanctorium - DLC 
	Clockwork city Было бы не пл
	охо\, чтобы у Вас 
	были все эти к
	уски контента.
	 Тогда я не буду 
	как мама-гусыня добир
	ать народ постоянно (врем
	я\, время\, время...).\nН
	о если нет\, и Вы о
	чень хотите куд
	а-то конкретно - 
	что ж\, добро 
	пожаловать=) 
	Большая просьба: при
	 записи пишем в комментария
	х свою роль (роли) и User ID (то
	\, что у вас в игре пос
	ле @).\nЗаходим в т
	имспик\, надев
	аем табард\, что
	бы быть красивы
	м и узнаваемым
	 и собираемся в 
	гильд-холе.\nФарми
	м быстро и качественно! Для чего
	\, собственно\, идём: Roar of Alkosh\nTwilight Remedy\nWar 
	Machine\nMaster Architect\nVestment of Olorime\nArms of Relequen\nMantle o
	f Siroria\nAsylum Weapons и другие 
	вкусные и не очень 
	сеты + возможность
	 выполнить weekly 
	квесты в данны
	х триалах и по
	лучить камни тра
	нсмутации (по 5 
	за каждого пер
	сонажа в кажд
	ом триале)\, м
	естные крафто
	вые мотивы и п
	рочую мишуру. 
	Приятная\, дружес
	кая\, весёлая атмосфе
	ра в комплекте=) Фразочки \"А Вы 
	точно РЛ?\" не чаще 1 раза в 5 минут
DTSTART:20181115T170000Z
ATTENDEE;CN="Ando";CUTYPE=INDIVIDUAL;PARTSTAT=ACCEPTED:web@b
	andits-clan.ru
ATTENDEE;CN="Ghost_77";CUTYPE=INDIVIDUAL;PARTSTAT=ACCEPTED:w
	eb@bandits-clan.ru
ATTENDEE;CN="Дорорид";CUTYPE=INDIVIDUAL;PARTSTAT=ACCE
	PTED:web@bandits-clan.ru
ATTENDEE;CN="Nikvilan";CUTYPE=INDIVIDUAL;PARTSTAT=ACCEPTED:w
	eb@bandits-clan.ru
ATTENDEE;CN="Z1eDog";CUTYPE=INDIVIDUAL;PARTSTAT=ACCEPTED:web
	@bandits-clan.ru
END:VEVENT
END:VCALENDAR
