BEGIN:VCALENDAR
VERSION:2.0
PRODID:-//InvisionCommunity Events 4.7.14//EN
METHOD:PUBLISH
CALSCALE:GREGORIAN
REFRESH-INTERVAL:PT15M
X-PUBLISHED-TTL:PT15M
X-WR-CALNAME:The Elder Scrolls Online
NAME:The Elder Scrolls Online
BEGIN:VTIMEZONE
TZID:Europe/London
TZURL:http://tzurl.org/zoneinfo/Europe/London
X-LIC-LOCATION:Europe/London
BEGIN:DAYLIGHT
TZOFFSETFROM:+0000
TZOFFSETTO:+0100
TZNAME:BST
DTSTART:20180325T020000Z
RRULE:FREQ=YEARLY;BYMONTH=3;BYDAY=-1SU
END:DAYLIGHT
BEGIN:STANDARD
TZOFFSETFROM:+0100
TZOFFSETTO:+0000
TZNAME:GMT
DTSTART:20181028T020000Z
RRULE:FREQ=YEARLY;BYMONTH=10;BYDAY=-1SU
END:STANDARD
END:VTIMEZONE
BEGIN:VEVENT
SUMMARY:[TESO] Фарм нормал DLC триалов (HoF\, CR\, 
	MoL\, AS)
DTSTAMP:20181114T091519Z
SEQUENCE:0
UID:4532-1-afb15bc42254ad5fb0481ce5e9c8144d@forum.bandits-clan.ru
ORGANIZER;CN="Ando":web@bandits-clan.ru
DESCRIPTION:Событие на 1\,5+ ча
	са. Нормал триалы на
	 выбор группы (нет
	\, на мой выбор 
	  ). Количест
	во зависит 
	от подготовленн
	ости собравшегося рей
	да.\nТребуются большие
	 и сильные (160+ CP). От
	метки о прохождении
	 не ставлю.\nЭТО НЕ 
	УЧЕБНЫЙ РЕЙД!!!
	 \nУ Вас должны 
	быть отметки 
	о прохождении у
	казанных триало
	в\, или ВЫ должны 
	убедить меня\, что
	 знаете чего та
	м происходит!\nП
	о формату событ
	ия\, я не должен
	 рассказывать Вам такт
	ики\, а просто врываться и
	 дамажить=)\n1-2 танка\n
	2 хила\n8-9 ДД Для дан
	ного события Вам нужно 
	иметь следующие DLC/Главы:\nПасть Л
	орхаджа (Maw of Lorkhaj) - DLC Гильдия во
	ров\nЗалы фабрикации (Hall of fabrication) 
	- Глава Морровинд\nCloudrest - Глава Саммерсет
	\nAsylum Sanctorium - DLC Clockwork city Было бы 
	не плохо\, чтобы у
	 Вас были все э
	ти куски конт
	ента. Тогда я не
	 буду как мама-гусын
	я добирать народ постоян
	но (время\, время\, время.
	..).\nНо если нет\, и Вы 
	очень хотите ку
	да-то конкретно -
	 что ж\, добро 
	пожаловать=) 
	Большая просьба: при
	 записи пишем в комментария
	х свою роль (роли) и User ID (то
	\, что у вас в игре пос
	ле @).\nЗаходим в т
	имспик\, надев
	аем табард\, что
	бы быть красивы
	м и узнаваемым
	 и собираемся в 
	гильд-холе.\nФарми
	м быстро и качественно! Для чего
	\, собственно\, идём: Roar of Alkosh\nTwilight Remedy\nWar 
	Machine\nMaster Architect\nVestment of Olorime\nArms of Relequen\nMantle o
	f Siroria\nAsylum Weapons и другие 
	вкусные и не очень 
	сеты + возможность
	 выполнить weekly 
	квесты в данны
	х триалах и по
	лучить камни тра
	нсмутации (по 5 
	за каждого пер
	сонажа в кажд
	ом триале)\, м
	естные крафто
	вые мотивы и п
	рочую мишуру. 
	Приятная\, дружес
	кая\, весёлая атмосфе
	ра в комплекте=) Фразочки \"А Вы 
	точно РЛ?\" не чаще 1 раза в 5 минут
DTSTART:20181117T170000Z
ATTENDEE;CN="Raywwe18";CUTYPE=INDIVIDUAL;PARTSTAT=ACCEPTED:w
	eb@bandits-clan.ru
ATTENDEE;CN="AndreyZotov";CUTYPE=INDIVIDUAL;PARTSTAT=ACCEPTE
	D:web@bandits-clan.ru
ATTENDEE;CN="Ando";CUTYPE=INDIVIDUAL;PARTSTAT=ACCEPTED:web@b
	andits-clan.ru
ATTENDEE;CN="Z1eDog";CUTYPE=INDIVIDUAL;PARTSTAT=ACCEPTED:web
	@bandits-clan.ru
ATTENDEE;CN="MinaevNaKone";CUTYPE=INDIVIDUAL;PARTSTAT=ACCEPT
	ED:web@bandits-clan.ru
ATTENDEE;CN="Baltika";CUTYPE=INDIVIDUAL;PARTSTAT=ACCEPTED:we
	b@bandits-clan.ru
ATTENDEE;CN="Дорорид";CUTYPE=INDIVIDUAL;PARTSTAT=ACCE
	PTED:web@bandits-clan.ru
ATTENDEE;CN="Alvinguard";CUTYPE=INDIVIDUAL;PARTSTAT=ACCEPTED
	:web@bandits-clan.ru
ATTENDEE;CN="gaffer";CUTYPE=INDIVIDUAL;PARTSTAT=ACCEPTED:web
	@bandits-clan.ru
ATTENDEE;CN="klotik";CUTYPE=INDIVIDUAL;PARTSTAT=ACCEPTED:web
	@bandits-clan.ru
ATTENDEE;CN="Kratos855";CUTYPE=INDIVIDUAL;PARTSTAT=ACCEPTED:
	web@bandits-clan.ru
ATTENDEE;CN="Aktarios";CUTYPE=INDIVIDUAL;PARTSTAT=ACCEPTED:w
	eb@bandits-clan.ru
END:VEVENT
END:VCALENDAR
