BEGIN:VCALENDAR
VERSION:2.0
PRODID:-//InvisionCommunity Events 4.7.14//EN
METHOD:PUBLISH
CALSCALE:GREGORIAN
REFRESH-INTERVAL:PT15M
X-PUBLISHED-TTL:PT15M
X-WR-CALNAME:The Elder Scrolls Online
NAME:The Elder Scrolls Online
BEGIN:VTIMEZONE
TZID:Europe/London
TZURL:http://tzurl.org/zoneinfo/Europe/London
X-LIC-LOCATION:Europe/London
BEGIN:DAYLIGHT
TZOFFSETFROM:+0000
TZOFFSETTO:+0100
TZNAME:BST
DTSTART:20180325T020000Z
RRULE:FREQ=YEARLY;BYMONTH=3;BYDAY=-1SU
END:DAYLIGHT
BEGIN:STANDARD
TZOFFSETFROM:+0100
TZOFFSETTO:+0000
TZNAME:GMT
DTSTART:20181028T020000Z
RRULE:FREQ=YEARLY;BYMONTH=10;BYDAY=-1SU
END:STANDARD
END:VTIMEZONE
BEGIN:VEVENT
SUMMARY:Veteran cloudrest СОБРАНИЕ СТАТИКА
DTSTAMP:20181112T131623Z
SEQUENCE:1
UID:4526-1-afb15bc42254ad5fb0481ce5e9c8144d@forum.bandits-clan.ru
ORGANIZER;CN="skutn":web@bandits-clan.ru
DESCRIPTION:Попробуем с
	обраться\, обс
	удим новый сост
	ав\, посмотрим к
	ого нам не хватает\nОТП
	ИШИТЕСЬ ЕСЛИ ВЫ НЕ СМОЖЕТЕ ПРИЙТИ!!!\nТ
	анки:\n@vens1k\n@mrachny\n@zymel\n​​​Хилы:\n@Evi1Lex\n@Hel
	lena02\nДД:\n@Ando\n@Skutn\n@Malintes\n@вакант стам/мана
	 дд\n@st_yan\n@NerevarIII\n@Ildarf\nЗамена\n@Skapic танк\n@
	Anpire хил\n@Tykot хил\n@hoft дд\n@вакант 
	мана дд 45+\n@вакант мана дд 45+
DTSTART:20181114T160000Z
END:VEVENT
END:VCALENDAR
