BEGIN:VCALENDAR
VERSION:2.0
PRODID:-//InvisionCommunity Events 4.7.14//EN
METHOD:PUBLISH
CALSCALE:GREGORIAN
REFRESH-INTERVAL:PT15M
X-PUBLISHED-TTL:PT15M
X-WR-CALNAME:The Elder Scrolls Online
NAME:The Elder Scrolls Online
BEGIN:VTIMEZONE
TZID:Europe/London
TZURL:http://tzurl.org/zoneinfo/Europe/London
X-LIC-LOCATION:Europe/London
BEGIN:DAYLIGHT
TZOFFSETFROM:+0000
TZOFFSETTO:+0100
TZNAME:BST
DTSTART:20180325T020000Z
RRULE:FREQ=YEARLY;BYMONTH=3;BYDAY=-1SU
END:DAYLIGHT
BEGIN:STANDARD
TZOFFSETFROM:+0100
TZOFFSETTO:+0000
TZNAME:GMT
DTSTART:20181028T020000Z
RRULE:FREQ=YEARLY;BYMONTH=10;BYDAY=-1SU
END:STANDARD
END:VTIMEZONE
BEGIN:VEVENT
SUMMARY:Veteran Cloudrest
DTSTAMP:20181112T130701Z
SEQUENCE:1
UID:4525-1-afb15bc42254ad5fb0481ce5e9c8144d@forum.bandits-clan.ru
ORGANIZER;CN="skutn":web@bandits-clan.ru
DESCRIPTION:&lt\;p&gt\;ОТПИШИТЕСЬ ЕС
	ЛИ ВЫ НЕ СМОЖЕТЕ ПРИЙТИ!!!Танки:@vens1k@
	mrachny@zymel​​​Хилы:@Evi1Lex@Hellena02ДД:@Ando@Skut
	n@Malintes@вакант стам/мана дд@st_yan@NerevarIII
	@IldarfЗамена@Skapic танк@Anpire хил@Tykot х
	ил@hoft дд@вакант мана дд 45+@вакант мана дд 4
	5+\n
DTSTART:20181121T160000Z
END:VEVENT
END:VCALENDAR
