BEGIN:VCALENDAR
VERSION:2.0
PRODID:-//InvisionCommunity Events 4.7.14//EN
METHOD:PUBLISH
CALSCALE:GREGORIAN
REFRESH-INTERVAL:PT15M
X-PUBLISHED-TTL:PT15M
X-WR-CALNAME:The Elder Scrolls Online
NAME:The Elder Scrolls Online
BEGIN:VTIMEZONE
TZID:Europe/London
TZURL:http://tzurl.org/zoneinfo/Europe/London
X-LIC-LOCATION:Europe/London
BEGIN:DAYLIGHT
TZOFFSETFROM:+0000
TZOFFSETTO:+0100
TZNAME:BST
DTSTART:20180325T020000Z
RRULE:FREQ=YEARLY;BYMONTH=3;BYDAY=-1SU
END:DAYLIGHT
BEGIN:STANDARD
TZOFFSETFROM:+0100
TZOFFSETTO:+0000
TZNAME:GMT
DTSTART:20181028T020000Z
RRULE:FREQ=YEARLY;BYMONTH=10;BYDAY=-1SU
END:STANDARD
END:VTIMEZONE
BEGIN:VEVENT
SUMMARY:[TESO] PvP Imperial City 160+
DTSTAMP:20181111T185434Z
SEQUENCE:0
UID:4512-1-afb15bc42254ad5fb0481ce5e9c8144d@forum.bandits-clan.ru
ORGANIZER;CN="Keshanberg":web@bandits-clan.ru
DESCRIPTION:Игроки 160+ за 
	Даггерфолл Ко
	венант\, приходите
	 на вылазку в Импер
	ский Город!\n​Зачем нам это:\n1.
	 убьем всех на своем пути (
	PvP / PvE)\n2. захватываем
	 флаги\, получаем альянс поинт
	ы - информация о них здесь:http://en.uesp.net/w...
	Alliance_Points\n3. фармим тель-вары! - и
	нформация о них здесь: http://www.tesonline...on
	es-guide-8927\n4. закрываем боссов - инф
	ормация о них здесь: http://esoacademy.co...al-c
	ity-bosses/\n​5. собераем 
	скайшарды\, в 
	рекламе не нуждаются! (П
	вП сеты или одеяния с чудным т
	рейтом Impenetrable приветствуются - http://forum.band
	its...howtopic=51949)\nТребования:\nТимспик + DLC
	 Imperial City А это вам не
	большая памятка
	\, какие трофеи сто
	ит копить\, а какие
	 можно открыть по разу (для ачи
	вки) и забыть про них: Monstrious Tooth — Agil
	ity (кольца) Bloody Claw — Agility (ожерелье)\nBone 
	Shard — Willpower (кольца)\nDark Ether — Willpower (ожер
	елье)\nMark of the Legion — Endurance (ожерелье)
DTSTART:20181112T173000Z
ATTENDEE;CN="aliasvenx";CUTYPE=INDIVIDUAL;PARTSTAT=ACCEPTED:
	web@bandits-clan.ru
ATTENDEE;CN="Keshanberg";CUTYPE=INDIVIDUAL;PARTSTAT=ACCEPTED
	:web@bandits-clan.ru
ATTENDEE;CN="Ghost_77";CUTYPE=INDIVIDUAL;PARTSTAT=ACCEPTED:w
	eb@bandits-clan.ru
ATTENDEE;CN="Светлая";CUTYPE=INDIVIDUAL;PARTSTAT=ACCE
	PTED:web@bandits-clan.ru
END:VEVENT
END:VCALENDAR
