BEGIN:VCALENDAR
VERSION:2.0
PRODID:-//InvisionCommunity Events 4.7.14//EN
METHOD:PUBLISH
CALSCALE:GREGORIAN
REFRESH-INTERVAL:PT15M
X-PUBLISHED-TTL:PT15M
X-WR-CALNAME:The Elder Scrolls Online
NAME:The Elder Scrolls Online
BEGIN:VTIMEZONE
TZID:Europe/London
TZURL:http://tzurl.org/zoneinfo/Europe/London
X-LIC-LOCATION:Europe/London
BEGIN:DAYLIGHT
TZOFFSETFROM:+0000
TZOFFSETTO:+0100
TZNAME:BST
DTSTART:20180325T020000Z
RRULE:FREQ=YEARLY;BYMONTH=3;BYDAY=-1SU
END:DAYLIGHT
BEGIN:STANDARD
TZOFFSETFROM:+0100
TZOFFSETTO:+0000
TZNAME:GMT
DTSTART:20181028T020000Z
RRULE:FREQ=YEARLY;BYMONTH=10;BYDAY=-1SU
END:STANDARD
END:VTIMEZONE
BEGIN:VEVENT
SUMMARY:[TESO] Мировые боссы Краглорна
DTSTAMP:20181111T132331Z
SEQUENCE:0
UID:4507-1-afb15bc42254ad5fb0481ce5e9c8144d@forum.bandits-clan.ru
ORGANIZER;CN="FreeDown":web@bandits-clan.ru
DESCRIPTION:Приглаш
	аются все желающие закр
	ыть мировых боссов в Кр
	аглорне (Craglorn).\nТа
	кже\, при дос
	таточном ко
	личестве жел
	ающих\, собере
	м скайшарды 
	и убьем бос
	сов в подземел
	ьях этой локации.
	\nПродолжительн
	ость мероприятия 2
	-3 часа. Требовани
	я:\n- уровень персо
	нажа любой\n- аль
	янс персонажа л
	юбой\n- табард (на
	кидка гильдии\, поку
	пается в гильдейском магазине)\n- ти
	мспик\, канал &lt\;World Boss Academy&gt\;
DTSTART:20181112T180000Z
ATTENDEE;CN="FreeDown";CUTYPE=INDIVIDUAL;PARTSTAT=ACCEPTED:w
	eb@bandits-clan.ru
ATTENDEE;CN="Kotolypovka";CUTYPE=INDIVIDUAL;PARTSTAT=ACCEPTE
	D:web@bandits-clan.ru
ATTENDEE;CN="Canis";CUTYPE=INDIVIDUAL;PARTSTAT=ACCEPTED:web@
	bandits-clan.ru
ATTENDEE;CN="Legrat";CUTYPE=INDIVIDUAL;PARTSTAT=ACCEPTED:web
	@bandits-clan.ru
ATTENDEE;CN="SOLOMONn";CUTYPE=INDIVIDUAL;PARTSTAT=ACCEPTED:w
	eb@bandits-clan.ru
ATTENDEE;CN="Dormidontovna";CUTYPE=INDIVIDUAL;PARTSTAT=ACCEP
	TED:web@bandits-clan.ru
ATTENDEE;CN="Sarig";CUTYPE=INDIVIDUAL;PARTSTAT=ACCEPTED:web@
	bandits-clan.ru
ATTENDEE;CN="Count";CUTYPE=INDIVIDUAL;PARTSTAT=ACCEPTED:web@
	bandits-clan.ru
ATTENDEE;CN="Iterator";CUTYPE=INDIVIDUAL;PARTSTAT=ACCEPTED:w
	eb@bandits-clan.ru
END:VEVENT
END:VCALENDAR
