BEGIN:VCALENDAR
VERSION:2.0
PRODID:-//InvisionCommunity Events 4.7.14//EN
METHOD:PUBLISH
CALSCALE:GREGORIAN
REFRESH-INTERVAL:PT15M
X-PUBLISHED-TTL:PT15M
X-WR-CALNAME:The Elder Scrolls Online
NAME:The Elder Scrolls Online
BEGIN:VTIMEZONE
TZID:Europe/London
TZURL:http://tzurl.org/zoneinfo/Europe/London
X-LIC-LOCATION:Europe/London
BEGIN:DAYLIGHT
TZOFFSETFROM:+0000
TZOFFSETTO:+0100
TZNAME:BST
DTSTART:20180325T020000Z
RRULE:FREQ=YEARLY;BYMONTH=3;BYDAY=-1SU
END:DAYLIGHT
BEGIN:STANDARD
TZOFFSETFROM:+0100
TZOFFSETTO:+0000
TZNAME:GMT
DTSTART:20181028T020000Z
RRULE:FREQ=YEARLY;BYMONTH=10;BYDAY=-1SU
END:STANDARD
END:VTIMEZONE
BEGIN:VEVENT
SUMMARY:[TESO] Ярость BATTLEGROUNDS
DTSTAMP:20181106T164359Z
SEQUENCE:2
UID:4485-1-afb15bc42254ad5fb0481ce5e9c8144d@forum.bandits-clan.ru
ORGANIZER;CN="Tykot":web@bandits-clan.ru
DESCRIPTION:Бандиты в
	ыходят на по
	ля сражений
	! В связи с
	 военным по
	ложением\, 
	открывается
	 дополнитель
	ный вербовочный
	 центр. Нам нужны 
	самые свирепые\,
	 самые сильные\,
	 самые стойкие\, 
	самые коварные и 
	самые ловкие рекрут
	ы. Для того\, чтобы
	 доказать\, что
	 он хорош во вс
	ем\, кандидат
	 должен прой
	ти полосу пре
	пятствий (Пут
	ь Воина-Мага-
	Вора-Барда-
	Жреца-Охотни
	ка). От тебя 
	потребуютс
	я самые разн
	ые и неожида
	нные навыки 
	и способности. 
	Придётся дратьс
	я голым в соло пр
	отив ворлд-босс
	а\, а ты пришёл кр
	афтером? Не пове
	зло. Нужно будет
	 выковать орочий 
	меч\, а ты ничего 
	не смыслящий в ре
	месле воин? В друго
	й раз\, приятель! До
	кажи\, что ты спос
	обен на всё - зах
	оди в игру и нач
	ни свой Путь Воина-Ма
	га-Вора-Барда-Жреца-Охо
	тника 18 ноября в 16:
	00 по МСК. Тот\, 
	кто первым 
	пройдет по
	лосу препятс
	твий\, будет
	 объявлен победите
	лем и получит уникальный 
	код на элитного маунта - 
	Doom Wolf Занял 2 или 3 м
	есто? Отправ
	им тебя подк
	ачаться\, а в
	 помощь дад
	им Этеричес
	кую Амброзию
	 Все остальны
	е\, кто успеш
	но заверши
	т Путь Воин
	а-Мага-Во
	ра-Бард
	а-Жреца-
	Охотника
	 получат 
	утешительн
	ую Амброзию Псиджико
	в Требования к участникам
	: наличие звания Thief+/Soldie
	r+ (анкета на форуме+тимспик)\, уровень не 
	важен!
DTSTART:20181118T130000Z
ATTENDEE;CN="Tykot";CUTYPE=INDIVIDUAL;PARTSTAT=ACCEPTED:web@
	bandits-clan.ru
ATTENDEE;CN="Krolik5280";CUTYPE=INDIVIDUAL;PARTSTAT=ACCEPTED
	:web@bandits-clan.ru
ATTENDEE;CN="Dolphin";CUTYPE=INDIVIDUAL;PARTSTAT=ACCEPTED:we
	b@bandits-clan.ru
ATTENDEE;CN="arxangelden";CUTYPE=INDIVIDUAL;PARTSTAT=ACCEPTE
	D:web@bandits-clan.ru
END:VEVENT
END:VCALENDAR
