BEGIN:VCALENDAR
VERSION:2.0
PRODID:-//InvisionCommunity Events 4.7.14//EN
METHOD:PUBLISH
CALSCALE:GREGORIAN
REFRESH-INTERVAL:PT15M
X-PUBLISHED-TTL:PT15M
X-WR-CALNAME:The Elder Scrolls Online
NAME:The Elder Scrolls Online
BEGIN:VTIMEZONE
TZID:Europe/London
TZURL:http://tzurl.org/zoneinfo/Europe/London
X-LIC-LOCATION:Europe/London
BEGIN:DAYLIGHT
TZOFFSETFROM:+0000
TZOFFSETTO:+0100
TZNAME:BST
DTSTART:20180325T020000Z
RRULE:FREQ=YEARLY;BYMONTH=3;BYDAY=-1SU
END:DAYLIGHT
BEGIN:STANDARD
TZOFFSETFROM:+0100
TZOFFSETTO:+0000
TZNAME:GMT
DTSTART:20181028T020000Z
RRULE:FREQ=YEARLY;BYMONTH=10;BYDAY=-1SU
END:STANDARD
END:VTIMEZONE
BEGIN:VEVENT
SUMMARY:[TESO] Услышь рёв DRO-M'ATHRA!
DTSTAMP:20181106T163945Z
SEQUENCE:2
UID:4484-1-afb15bc42254ad5fb0481ce5e9c8144d@forum.bandits-clan.ru
ORGANIZER;CN="Tykot":web@bandits-clan.ru
DESCRIPTION:Ты попал в ло
	гово хищника\, п
	риятель! Услы
	шь его рёв и с
	одрогнись от у
	жаса! Но если т
	ы будешь достат
	очно храбр и нахо
	дчив\, чтобы войти внут
	рь\, тебя ждут великие
	 награды! 16 ноября в 2
	0:00 по МСК приходи в т
	имспик клана (кан
	ал \"Котелок Наль
	карии\")\, чтобы 
	принять учас
	тие в викторин
	е от статика 
	Дро-М'Атра Скв
	ад. Пройди по
	 шаткому помо
	сту из коварн
	ых вопросов\, 
	лишь часть из
	 которых буде
	т касаться ист
	ории игрового м
	ира. О чем будут д
	ругие вопросы? 
	Сия тайна покр
	ыта мраком\, бы
	ть может\, с
	колько стои
	т заморфлен
	ный пурдж ил
	и как зовут
	 кота гильдм
	астера? Неве
	рный ответ п
	риведёт к м
	оментально
	й смерти\, 
	остаться 
	должен то
	лько один! 
	Победитель виктори
	ны получит путёвку в вет
	еранский санаторий Clou
	drest (триал)\, а так же 
	стильный прикид 
	желанного сета (от
	туда же)\, но что
	 самое главное 
	- гарантированн
	ые 10 фрагмент
	ов стиля Вел
	кинаров\, из
	 которых можн
	о будет собра
	ть страницу эт
	ого редкого и 
	дорогого стиля.
	 Мы возьмем те
	бя с собой и 
	покажем вс
	е подводны
	е камни!\nУ
	частники викто
	рины получат памятные сувен
	иры. УЧАСТНИКИ: соклановцы (Daggerfall Bandits и
	 Vanguard Bandits) от 160 Чемпионских очков в
	 звании Thief+/Soldier+ (нал
	ичие тимспи
	ка и анкеты н
	а форуме). Н
	аличие допол
	нения Саммерсе
	т обязательно.\n
	Совершенно неважн
	ы твоя роль\, дпс и броня. ЖЮРИ: стат
	ик Дро-М'Атра Сквад
DTSTART:20181116T170000Z
ATTENDEE;CN="Tykot";CUTYPE=INDIVIDUAL;PARTSTAT=ACCEPTED:web@
	bandits-clan.ru
ATTENDEE;CN="Ghost_77";CUTYPE=INDIVIDUAL;PARTSTAT=ACCEPTED:w
	eb@bandits-clan.ru
ATTENDEE;CN="Krolik5280";CUTYPE=INDIVIDUAL;PARTSTAT=ACCEPTED
	:web@bandits-clan.ru
ATTENDEE;CN="Nikvilan";CUTYPE=INDIVIDUAL;PARTSTAT=ACCEPTED:w
	eb@bandits-clan.ru
ATTENDEE;CN="Geluriel";CUTYPE=INDIVIDUAL;PARTSTAT=ACCEPTED:w
	eb@bandits-clan.ru
ATTENDEE;CN="Ando";CUTYPE=INDIVIDUAL;PARTSTAT=ACCEPTED:web@b
	andits-clan.ru
ATTENDEE;CN="@Sky049";CUTYPE=INDIVIDUAL;PARTSTAT=ACCEPTED:we
	b@bandits-clan.ru
ATTENDEE;CN="Aquifolius";CUTYPE=INDIVIDUAL;PARTSTAT=ACCEPTED
	:web@bandits-clan.ru
ATTENDEE;CN="VaultBoyRUS";CUTYPE=INDIVIDUAL;PARTSTAT=ACCEPTE
	D:web@bandits-clan.ru
ATTENDEE;CN="KPD92";CUTYPE=INDIVIDUAL;PARTSTAT=ACCEPTED:web@
	bandits-clan.ru
ATTENDEE;CN="OverDream";CUTYPE=INDIVIDUAL;PARTSTAT=ACCEPTED:
	web@bandits-clan.ru
END:VEVENT
END:VCALENDAR
