BEGIN:VCALENDAR
VERSION:2.0
PRODID:-//InvisionCommunity Events 4.7.14//EN
METHOD:PUBLISH
CALSCALE:GREGORIAN
REFRESH-INTERVAL:PT15M
X-PUBLISHED-TTL:PT15M
X-WR-CALNAME:The Elder Scrolls Online
NAME:The Elder Scrolls Online
BEGIN:VTIMEZONE
TZID:Europe/London
TZURL:http://tzurl.org/zoneinfo/Europe/London
X-LIC-LOCATION:Europe/London
BEGIN:DAYLIGHT
TZOFFSETFROM:+0000
TZOFFSETTO:+0100
TZNAME:BST
DTSTART:20180325T020000Z
RRULE:FREQ=YEARLY;BYMONTH=3;BYDAY=-1SU
END:DAYLIGHT
BEGIN:STANDARD
TZOFFSETFROM:+0100
TZOFFSETTO:+0000
TZNAME:GMT
DTSTART:20181028T020000Z
RRULE:FREQ=YEARLY;BYMONTH=10;BYDAY=-1SU
END:STANDARD
END:VTIMEZONE
BEGIN:VEVENT
SUMMARY:[TESO] Обучающий триал вет Asylum Sanctoriu
	m (vAS)
DTSTAMP:20181105T061334Z
SEQUENCE:2
UID:4473-1-afb15bc42254ad5fb0481ce5e9c8144d@forum.bandits-clan.ru
ORGANIZER;CN="mrachny":web@bandits-clan.ru
DESCRIPTION:Обучающий ветеранский т
	риал Asylum Sanctorium\nНачало событи
	я 19-00 по МСК\nСбор начина
	ется в 18-45. Если вы записа
	лись\, но не пришли до
	 19-00\, ваше место мо
	жет занять любой желающий из
	 чата. Требования:\n- Наличие DLC
	 Clockwork City или подписки\n- Зван
	ие от Raider и выше\n- Подтве
	ржденный ДПС 26к+ для дд\n- Таб
	ард гильдии\n- TeamSpeak\
	n- Отметка о про
	хождении нормал
	 версии триала с
	 гильдией (или\
	, как минимум\, зна
	ние базовых меха
	ник боссов) Нам п
	отребуются:\n- 1 та
	нк (прошу заранее обсуд
	ить со мной билд в лс на форуме ил
	и в игре @mrachny)\n- 2 хила (SPC\, В
	орм\, Йорвульд\, ТВ
	Р. Пожалуйста\, у
	кажите в комме
	нтариях\, какие се
	ты у вас в наличии. Изуч
	енная способность Purge обя
	зательна!)\n- 8 дд (прио
	ритет мана рдд\, 2-3 д
	д с изученной сп
	особностью Purg
	e!) Обязательн
	о при записи указ
	ывайте свою роль 
	в комментариях и и
	гровой id\, если
	 он отличается от
	 ника на форуме.\nПрод
	олжительность события 
	- не более 2\,5 часов. \nСб
	ор\, перекуры\, перекусы
	 и т.д. также входят в
	 указанные 2\,5 ч
	аса\, так что
	 прошу всех приходить в
	овремя и подготовленными на все случаи
	 жизни)
DTSTART:20181109T160000Z
ATTENDEE;CN="mrachny";CUTYPE=INDIVIDUAL;PARTSTAT=ACCEPTED:we
	b@bandits-clan.ru
ATTENDEE;CN="NerevarIII";CUTYPE=INDIVIDUAL;PARTSTAT=ACCEPTED
	:web@bandits-clan.ru
ATTENDEE;CN="Ghost_77";CUTYPE=INDIVIDUAL;PARTSTAT=ACCEPTED:w
	eb@bandits-clan.ru
ATTENDEE;CN="Asquidbro";CUTYPE=INDIVIDUAL;PARTSTAT=ACCEPTED:
	web@bandits-clan.ru
ATTENDEE;CN="Nyuta";CUTYPE=INDIVIDUAL;PARTSTAT=ACCEPTED:web@
	bandits-clan.ru
ATTENDEE;CN="yonkjzi";CUTYPE=INDIVIDUAL;PARTSTAT=ACCEPTED:we
	b@bandits-clan.ru
ATTENDEE;CN="OverDream";CUTYPE=INDIVIDUAL;PARTSTAT=ACCEPTED:
	web@bandits-clan.ru
ATTENDEE;CN="Sergey Ivanov";CUTYPE=INDIVIDUAL;PARTSTAT=ACCEP
	TED:web@bandits-clan.ru
ATTENDEE;CN="Deliri0u5";CUTYPE=INDIVIDUAL;PARTSTAT=ACCEPTED:
	web@bandits-clan.ru
ATTENDEE;CN="stephook";CUTYPE=INDIVIDUAL;PARTSTAT=ACCEPTED:w
	eb@bandits-clan.ru
ATTENDEE;CN="Nikvilan";CUTYPE=INDIVIDUAL;PARTSTAT=ACCEPTED:w
	eb@bandits-clan.ru
END:VEVENT
END:VCALENDAR
