BEGIN:VCALENDAR
VERSION:2.0
PRODID:-//InvisionCommunity Events 4.7.14//EN
METHOD:PUBLISH
CALSCALE:GREGORIAN
REFRESH-INTERVAL:PT15M
X-PUBLISHED-TTL:PT15M
X-WR-CALNAME:The Elder Scrolls Online
NAME:The Elder Scrolls Online
BEGIN:VTIMEZONE
TZID:Europe/London
TZURL:http://tzurl.org/zoneinfo/Europe/London
X-LIC-LOCATION:Europe/London
BEGIN:DAYLIGHT
TZOFFSETFROM:+0000
TZOFFSETTO:+0100
TZNAME:BST
DTSTART:20180325T020000Z
RRULE:FREQ=YEARLY;BYMONTH=3;BYDAY=-1SU
END:DAYLIGHT
BEGIN:STANDARD
TZOFFSETFROM:+0100
TZOFFSETTO:+0000
TZNAME:GMT
DTSTART:20181028T020000Z
RRULE:FREQ=YEARLY;BYMONTH=10;BYDAY=-1SU
END:STANDARD
END:VTIMEZONE
BEGIN:VEVENT
SUMMARY:[TESO] Ночной триал (vAA)\, обучающий
DTSTAMP:20181104T213708Z
SEQUENCE:2
UID:4466-1-afb15bc42254ad5fb0481ce5e9c8144d@forum.bandits-clan.ru
ORGANIZER;CN="Tykot":web@bandits-clan.ru
DESCRIPTION:Куда идём? В 2
	3-30 по МСК проходим ветеранс
	кую версию триала Aetherian A
	rchive Что получим? Вещи из топовых сетов Vi
	cious Ophidian\, Infallible Aether и други
	х\nОтметки 
	о прохождени
	и триала для повышения 
	звания в гильдии Требовани
	я: Звание Raider\, Warrior или
	 выше\nОтметка о
	 прохождении nА
	А или выше\nАттестация 
	для своей роли\nГильдейский
	 табард\nTeam Speak Нам нужны: 
	1 танк\, 2 хила\, 9 дд
	 Кто идет хилом 
	или танком\, пиш
	ите в комментари
	ях свою роль\, чтобы 
	у нас не получилось 
	на старте 5 хилов и 4 
	танка.\nПриходит
	е заранее\, в то
	м числе в тимспи
	к\, вместо опозд
	авших наберем ж
	елающих из чата.\
	nЕсли ваш ник в
	 игре отличает
	ся от ника на форуме\, укажите в ко
	мментариях свой игровой ник.
DTSTART:20181110T203000Z
ATTENDEE;CN="Tykot";CUTYPE=INDIVIDUAL;PARTSTAT=ACCEPTED:web@
	bandits-clan.ru
ATTENDEE;CN="Dolphin";CUTYPE=INDIVIDUAL;PARTSTAT=ACCEPTED:we
	b@bandits-clan.ru
ATTENDEE;CN="Aethus";CUTYPE=INDIVIDUAL;PARTSTAT=ACCEPTED:web
	@bandits-clan.ru
ATTENDEE;CN="Дорорид";CUTYPE=INDIVIDUAL;PARTSTAT=ACCE
	PTED:web@bandits-clan.ru
ATTENDEE;CN="Krolik5280";CUTYPE=INDIVIDUAL;PARTSTAT=ACCEPTED
	:web@bandits-clan.ru
ATTENDEE;CN="MinaevNaKone";CUTYPE=INDIVIDUAL;PARTSTAT=ACCEPT
	ED:web@bandits-clan.ru
ATTENDEE;CN="OverDream";CUTYPE=INDIVIDUAL;PARTSTAT=ACCEPTED:
	web@bandits-clan.ru
ATTENDEE;CN="Ragga-Max";CUTYPE=INDIVIDUAL;PARTSTAT=ACCEPTED:
	web@bandits-clan.ru
ATTENDEE;CN="TauRus";CUTYPE=INDIVIDUAL;PARTSTAT=ACCEPTED:web
	@bandits-clan.ru
ATTENDEE;CN="VolkovAlexsey";CUTYPE=INDIVIDUAL;PARTSTAT=ACCEP
	TED:web@bandits-clan.ru
END:VEVENT
END:VCALENDAR
