BEGIN:VCALENDAR
VERSION:2.0
PRODID:-//InvisionCommunity Events 4.7.14//EN
METHOD:PUBLISH
CALSCALE:GREGORIAN
REFRESH-INTERVAL:PT15M
X-PUBLISHED-TTL:PT15M
X-WR-CALNAME:The Elder Scrolls Online
NAME:The Elder Scrolls Online
BEGIN:VTIMEZONE
TZID:Europe/London
TZURL:http://tzurl.org/zoneinfo/Europe/London
X-LIC-LOCATION:Europe/London
BEGIN:DAYLIGHT
TZOFFSETFROM:+0000
TZOFFSETTO:+0100
TZNAME:BST
DTSTART:20180325T020000Z
RRULE:FREQ=YEARLY;BYMONTH=3;BYDAY=-1SU
END:DAYLIGHT
BEGIN:STANDARD
TZOFFSETFROM:+0100
TZOFFSETTO:+0000
TZNAME:GMT
DTSTART:20181028T020000Z
RRULE:FREQ=YEARLY;BYMONTH=10;BYDAY=-1SU
END:STANDARD
END:VTIMEZONE
BEGIN:VEVENT
SUMMARY:[TESO] PvP Imperial City
DTSTAMP:20181104T183924Z
SEQUENCE:0
UID:4461-1-afb15bc42254ad5fb0481ce5e9c8144d@forum.bandits-clan.ru
ORGANIZER;CN="Keshanberg":web@bandits-clan.ru
DESCRIPTION:Игроки 160+ за 
	Даггерфолл Ко
	венант\, приходите
	 на вылазку в Импер
	ский Город!\n​Зачем нам это:\n1.
	 убьем всех на своем пути (
	PvP / PvE)\n2. захватываем
	 флаги\, получаем альянс поинт
	ы - информация о них здесь:http://en.uesp.net/w...
	Alliance_Points\n3. фармим тель-вары! - и
	нформация о них здесь: http://www.tesonline...on
	es-guide-8927\n4. закрываем боссов - инф
	ормация о них здесь: http://esoacademy.co...al-c
	ity-bosses/\n​5. собераем ск
	айшарды\, в рекла
	ме не нуждаются!\n(ПвП сет
	ы или одеяния с чудным трейтом Impe
	netrable приветствуются - http://forum.bandits...how
	topic=51949)\nТребования:\nТимспик + DLC I
	mperial City\nА это вам небо
	льшая памятка\, 
	какие трофеи стои
	т копить\, а какие мо
	жно открыть по разу (для ачивки) и
	 забыть про них:\nMonstrious Tooth — Agility (кольца
	)\nBloody Claw — Agility (ожерелье)\nBone Shard — Willpo
	wer (кольца)\nDark Ether — Willpower (ожерелье)\nMark of
	 the Legion — Endurance (ожерелье)
DTSTART:20181105T173000Z
ATTENDEE;CN="Keshanberg";CUTYPE=INDIVIDUAL;PARTSTAT=ACCEPTED
	:web@bandits-clan.ru
ATTENDEE;CN="IvanDrogos";CUTYPE=INDIVIDUAL;PARTSTAT=ACCEPTED
	:web@bandits-clan.ru
ATTENDEE;CN="aliasvenx";CUTYPE=INDIVIDUAL;PARTSTAT=ACCEPTED:
	web@bandits-clan.ru
ATTENDEE;CN="DariusL";CUTYPE=INDIVIDUAL;PARTSTAT=ACCEPTED:we
	b@bandits-clan.ru
END:VEVENT
END:VCALENDAR
