BEGIN:VCALENDAR
VERSION:2.0
PRODID:-//InvisionCommunity Events 4.7.14//EN
METHOD:PUBLISH
CALSCALE:GREGORIAN
REFRESH-INTERVAL:PT15M
X-PUBLISHED-TTL:PT15M
X-WR-CALNAME:The Elder Scrolls Online
NAME:The Elder Scrolls Online
BEGIN:VTIMEZONE
TZID:Europe/London
TZURL:http://tzurl.org/zoneinfo/Europe/London
X-LIC-LOCATION:Europe/London
BEGIN:DAYLIGHT
TZOFFSETFROM:+0000
TZOFFSETTO:+0100
TZNAME:BST
DTSTART:20180325T020000Z
RRULE:FREQ=YEARLY;BYMONTH=3;BYDAY=-1SU
END:DAYLIGHT
BEGIN:STANDARD
TZOFFSETFROM:+0100
TZOFFSETTO:+0000
TZNAME:GMT
DTSTART:20181028T020000Z
RRULE:FREQ=YEARLY;BYMONTH=10;BYDAY=-1SU
END:STANDARD
END:VTIMEZONE
BEGIN:VEVENT
SUMMARY:[TESO] vet Cloudrest+1
DTSTAMP:20181102T132029Z
SEQUENCE:2
UID:4443-1-afb15bc42254ad5fb0481ce5e9c8144d@forum.bandits-clan.ru
ORGANIZER;CN="Hoft":web@bandits-clan.ru
DESCRIPTION:Пройдем один р
	аз вет для трениров
	ки\, потом +1. Требова
	ние:\nЗвание от Ветеран ба
	ндит.\nTS\, табард гильдии. Состав:
	\n2 Танкa\n2 Хила\n8 DD Аддоны:\n- GroupLootNotifier http:/
	/www.esoui.com...otNotifier.html. Для всех 
	кто собирает сет\,
	 особенно в триал
	ах. Очень \"легкий
	\" аддон\, миним
	альная нагру
	зка на память 
	и ресурсы. Кр
	айне информатив
	ен. Показывает к
	ому что упало (
	сразу с трейт
	ами)\, все кли
	кабельное. 
	Включайте 
	в настройка
	х последни
	й автофильтр 
	и из чата пропадет флуд 
	состоящий из говнотрейтового дропа.\n- Band
	its User Interface http://forum.bandits...showtopic=58009. Н
	аш гильдейс
	кий аддон. 
	По своим в
	озможност
	ям и низко
	й нагрузк
	е на вычис
	лительны
	е ресурсы н
	а сегодняш
	ний день п
	ревосходит
	 прочие адд
	оны интерф
	ейса. Хила
	м иметь об
	язательно 
	потому что
	 они получа
	ют своеврем
	енные оповещ
	ения о горне 
	или просадке
	 группы/танка по
	 ресурсам. Дает 
	крайне важные о
	повещения в три
	алах.\n- Для т
	анка: Вклю
	чить в раз
	деле наст
	роек цели Бан
	дитского инт
	ерфейса таунт тр
	екер. Чтобы сэкон
	омить время:\n- Пр
	ошу приходить за 15 
	минут до начала
	 события сразу в ка
	нал Триалы в ТС.
	\n- Правильно в
	ыставлять роли.
	\n- Заблаговреме
	нно скрафтить
	/попросить еду
	/банки.\n- Про
	сматривае
	м лут и дог
	овариваемс
	я о передаче 
	после убийства по
	следнего босса. Жела
	тельно в личку а не голосом в ТС.
	\n- Носите с собой Grand Repair
	 Kit (можно получит
	ь за крафтовые 
	дейлики\, приобретае
	тся у вендоров\, а л
	учше в гильд стор
	ах)\n- В ТС не флу
	дим. Только ко
	нструктивная ин
	формация («горн»\,
	 «внизу/ввурху»\, 
	«не вставай/встав
	ай»\, пр.). Обсужд
	аем то что вас
	 волнует толь
	ко во время п
	ерерывов. Не р
	ассказываем 
	как вам обидн
	о что упали/з
	атупили/лагну
	ло\, не оправ
	дываемся если Р
	Л отметил лично 
	вашу ошибку. Да
	вайте экономить время.
	\n- После входа в холл данжа отклю
	чите тени\, Subsampling quality на
	 нормал\, миниму
	м частиц. Ни в кое
	м случае не заним
	айтесь этим во время рейда.\n- 
	На время рейда отключите Master Merchant\, Harvest Ma
	p\, RuESO.
DTSTART:20181105T170000Z
ATTENDEE;CN="Hoft";CUTYPE=INDIVIDUAL;PARTSTAT=ACCEPTED:web@b
	andits-clan.ru
ATTENDEE;CN="Him";CUTYPE=INDIVIDUAL;PARTSTAT=ACCEPTED:web@ba
	ndits-clan.ru
ATTENDEE;CN="OverDream";CUTYPE=INDIVIDUAL;PARTSTAT=ACCEPTED:
	web@bandits-clan.ru
ATTENDEE;CN="Bagira-Olga";CUTYPE=INDIVIDUAL;PARTSTAT=ACCEPTE
	D:web@bandits-clan.ru
ATTENDEE;CN="NerevarIII";CUTYPE=INDIVIDUAL;PARTSTAT=ACCEPTED
	:web@bandits-clan.ru
ATTENDEE;CN="vndtta";CUTYPE=INDIVIDUAL;PARTSTAT=ACCEPTED:web
	@bandits-clan.ru
ATTENDEE;CN="KNJAZ";CUTYPE=INDIVIDUAL;PARTSTAT=ACCEPTED:web@
	bandits-clan.ru
ATTENDEE;CN="Skapic";CUTYPE=INDIVIDUAL;PARTSTAT=ACCEPTED:web
	@bandits-clan.ru
ATTENDEE;CN="ILDaR_F";CUTYPE=INDIVIDUAL;PARTSTAT=ACCEPTED:we
	b@bandits-clan.ru
END:VEVENT
END:VCALENDAR
