BEGIN:VCALENDAR
VERSION:2.0
PRODID:-//InvisionCommunity Events 4.7.14//EN
METHOD:PUBLISH
CALSCALE:GREGORIAN
REFRESH-INTERVAL:PT15M
X-PUBLISHED-TTL:PT15M
X-WR-CALNAME:The Elder Scrolls Online
NAME:The Elder Scrolls Online
BEGIN:VTIMEZONE
TZID:Europe/London
TZURL:http://tzurl.org/zoneinfo/Europe/London
X-LIC-LOCATION:Europe/London
BEGIN:DAYLIGHT
TZOFFSETFROM:+0000
TZOFFSETTO:+0100
TZNAME:BST
DTSTART:20180325T020000Z
RRULE:FREQ=YEARLY;BYMONTH=3;BYDAY=-1SU
END:DAYLIGHT
BEGIN:STANDARD
TZOFFSETFROM:+0100
TZOFFSETTO:+0000
TZNAME:GMT
DTSTART:20181028T020000Z
RRULE:FREQ=YEARLY;BYMONTH=10;BYDAY=-1SU
END:STANDARD
END:VTIMEZONE
BEGIN:VEVENT
SUMMARY:[TESO] Обучающий hmAA
DTSTAMP:20181030T060542Z
SEQUENCE:0
UID:4433-1-afb15bc42254ad5fb0481ce5e9c8144d@forum.bandits-clan.ru
ORGANIZER;CN="mrachny":web@bandits-clan.ru
DESCRIPTION:Обучающий ветеранский тр
	иал Aetherian Archive с включением Hard Mo
	de.\nНачало события 19-00 по 
	МСК\nСбор начинается в 18-45 
	Требования:\n- Звание от Ban
	dit и выше\n- Подтвержденный ДПС 
	30к+ для дд\n- Табард гильдии\
	n- TeamSpeak\n- Отметка
	 о прохожд
	ении нормал ил
	и ветеранской ве
	рсии триала с ги
	льдией Нам потре
	буются:\n- 2 танка 
	(прошу танков заран
	ее обсудить со мной билд в лс н
	а форуме или в игре @mrachny)\n- 2
	 хила (SPC\, Олориме\, Мендинг\, Йорвуль
	д\, ульта Solar Prison)\n- 8 дд 
	(максимум 4 
	мдд) Обязат
	ельно при записи
	 указывайте свою 
	роль в комментариях
	 и игровой id\, ес
	ли он отличаетс
	я от ника на форуме.\n
	Продолжительность соб
	ытия - не более 2\,5 часов
	. \nСбор\, перекуры\, пере
	кусы и т.д. также вхо
	дят в указанные 2\
	,5 часа\, так чт
	о прошу всех приходит
	ь вовремя и подготовленными на все 
	случаи жизни)
DTSTART:20181102T160000Z
ATTENDEE;CN="mrachny";CUTYPE=INDIVIDUAL;PARTSTAT=ACCEPTED:we
	b@bandits-clan.ru
ATTENDEE;CN="MacabR_e";CUTYPE=INDIVIDUAL;PARTSTAT=ACCEPTED:w
	eb@bandits-clan.ru
ATTENDEE;CN="Asquidbro";CUTYPE=INDIVIDUAL;PARTSTAT=ACCEPTED:
	web@bandits-clan.ru
ATTENDEE;CN="Tykot";CUTYPE=INDIVIDUAL;PARTSTAT=ACCEPTED:web@
	bandits-clan.ru
ATTENDEE;CN="Alvinguard";CUTYPE=INDIVIDUAL;PARTSTAT=ACCEPTED
	:web@bandits-clan.ru
ATTENDEE;CN="Z1eDog";CUTYPE=INDIVIDUAL;PARTSTAT=ACCEPTED:web
	@bandits-clan.ru
ATTENDEE;CN="borodoom";CUTYPE=INDIVIDUAL;PARTSTAT=ACCEPTED:w
	eb@bandits-clan.ru
ATTENDEE;CN="Baltazar";CUTYPE=INDIVIDUAL;PARTSTAT=ACCEPTED:w
	eb@bandits-clan.ru
ATTENDEE;CN="Zyore";CUTYPE=INDIVIDUAL;PARTSTAT=ACCEPTED:web@
	bandits-clan.ru
ATTENDEE;CN="Nyuta";CUTYPE=INDIVIDUAL;PARTSTAT=ACCEPTED:web@
	bandits-clan.ru
ATTENDEE;CN="Aabsolute";CUTYPE=INDIVIDUAL;PARTSTAT=ACCEPTED:
	web@bandits-clan.ru
ATTENDEE;CN="Deliri0u5";CUTYPE=INDIVIDUAL;PARTSTAT=ACCEPTED:
	web@bandits-clan.ru
ATTENDEE;CN="Zym";CUTYPE=INDIVIDUAL;PARTSTAT=ACCEPTED:web@ba
	ndits-clan.ru
END:VEVENT
END:VCALENDAR
