BEGIN:VCALENDAR
VERSION:2.0
PRODID:-//InvisionCommunity Events 4.7.14//EN
METHOD:PUBLISH
CALSCALE:GREGORIAN
REFRESH-INTERVAL:PT15M
X-PUBLISHED-TTL:PT15M
X-WR-CALNAME:The Elder Scrolls Online
NAME:The Elder Scrolls Online
BEGIN:VTIMEZONE
TZID:Europe/London
TZURL:http://tzurl.org/zoneinfo/Europe/London
X-LIC-LOCATION:Europe/London
BEGIN:DAYLIGHT
TZOFFSETFROM:+0000
TZOFFSETTO:+0100
TZNAME:BST
DTSTART:20180325T020000Z
RRULE:FREQ=YEARLY;BYMONTH=3;BYDAY=-1SU
END:DAYLIGHT
BEGIN:STANDARD
TZOFFSETFROM:+0100
TZOFFSETTO:+0000
TZNAME:GMT
DTSTART:20181028T020000Z
RRULE:FREQ=YEARLY;BYMONTH=10;BYDAY=-1SU
END:STANDARD
END:VTIMEZONE
BEGIN:VEVENT
SUMMARY:(TESO)Рейд статика \"Critical Mass\"
DTSTAMP:20181029T102034Z
SEQUENCE:2
UID:4430-1-afb15bc42254ad5fb0481ce5e9c8144d@forum.bandits-clan.ru
ORGANIZER;CN="DarkVend":web@bandits-clan.ru
DESCRIPTION:В 14:30 по МСК\nС
	обираемся н
	а первый ре
	йд статика
	.На нем пла
	нируется с
	разу закрыть н
	ормал версии тр
	иалов Краглорна и
	 начать проходить
	 nCR.Если за один
	 рейд пройде
	м\, на следую
	щей неделе 
	будем прохо
	дить ветеран
	ские версии э
	тих триалов\,а
	 нормал верси
	и будут зачис
	лены в триалы для
	 фарма!\nОбязате
	льно к выполнению 
	для членов статика:\
	n1)Сбор в гильдхолле.\n2)
	Табард гильдии.\n2)Подг
	отовиться к рэйду за 
	10-15мин до его начала.\n3
	)Отметиться в таблице с ротацией статика
	- https://docs.google.com/spreadsheets/d/1CpQFG2ISlq-1NIjySlBEOgrdqFnf4E81
	ZixkccxGfWY/edit#gid=0 (Чтобы 
	авторизирова
	аться в таблице\,
	для редактирова
	ния\,напишите на
	 форуме в лс РЛ-у.)\nАктив
	ный список статика можно увидеть тут http:/
	/forum.bandits-clan.ru/index.php?showtopic=64045 .\nВсем у
	дачи\, жду вас в рэйде!\n@DarkVend
DTSTART:20181104T113000Z
ATTENDEE;CN="DarkVend";CUTYPE=INDIVIDUAL;PARTSTAT=ACCEPTED:w
	eb@bandits-clan.ru
ATTENDEE;CN="halloween13007";CUTYPE=INDIVIDUAL;PARTSTAT=ACCE
	PTED:web@bandits-clan.ru
ATTENDEE;CN="Burguk";CUTYPE=INDIVIDUAL;PARTSTAT=ACCEPTED:web
	@bandits-clan.ru
ATTENDEE;CN="VaultBoyRUS";CUTYPE=INDIVIDUAL;PARTSTAT=ACCEPTE
	D:web@bandits-clan.ru
ATTENDEE;CN="Aktarios";CUTYPE=INDIVIDUAL;PARTSTAT=ACCEPTED:w
	eb@bandits-clan.ru
ATTENDEE;CN="Alvinguard";CUTYPE=INDIVIDUAL;PARTSTAT=ACCEPTED
	:web@bandits-clan.ru
ATTENDEE;CN="borodoom";CUTYPE=INDIVIDUAL;PARTSTAT=ACCEPTED:w
	eb@bandits-clan.ru
ATTENDEE;CN="Baltazar";CUTYPE=INDIVIDUAL;PARTSTAT=ACCEPTED:w
	eb@bandits-clan.ru
ATTENDEE;CN="Gyngnir_99";CUTYPE=INDIVIDUAL;PARTSTAT=ACCEPTED
	:web@bandits-clan.ru
ATTENDEE;CN="Canis";CUTYPE=INDIVIDUAL;PARTSTAT=ACCEPTED:web@
	bandits-clan.ru
END:VEVENT
END:VCALENDAR
