BEGIN:VCALENDAR
VERSION:2.0
PRODID:-//InvisionCommunity Events 4.7.14//EN
METHOD:PUBLISH
CALSCALE:GREGORIAN
REFRESH-INTERVAL:PT15M
X-PUBLISHED-TTL:PT15M
X-WR-CALNAME:The Elder Scrolls Online
NAME:The Elder Scrolls Online
BEGIN:VTIMEZONE
TZID:Europe/London
TZURL:http://tzurl.org/zoneinfo/Europe/London
X-LIC-LOCATION:Europe/London
BEGIN:DAYLIGHT
TZOFFSETFROM:+0000
TZOFFSETTO:+0100
TZNAME:BST
DTSTART:20180325T020000Z
RRULE:FREQ=YEARLY;BYMONTH=3;BYDAY=-1SU
END:DAYLIGHT
BEGIN:STANDARD
TZOFFSETFROM:+0100
TZOFFSETTO:+0000
TZNAME:GMT
DTSTART:20181028T020000Z
RRULE:FREQ=YEARLY;BYMONTH=10;BYDAY=-1SU
END:STANDARD
END:VTIMEZONE
BEGIN:VEVENT
SUMMARY:[TESO] PvP Imperial City 160+
DTSTAMP:20181028T163023Z
SEQUENCE:0
UID:4417-1-afb15bc42254ad5fb0481ce5e9c8144d@forum.bandits-clan.ru
ORGANIZER;CN="Keshanberg":web@bandits-clan.ru
DESCRIPTION:\n   (ПвП сеты или одея
	ния с чудным трейтом Impenetrable приветств
	уются - http://forum.bandits...howtopic=51949)Тре
	бования:   Тимспик + DLC Imp
	erial City   А это вам н
	ебольшая памятк
	а\, какие трофеи с
	тоит копить\, а ка
	кие можно открыть по разу (д
	ля ачивки) и забыть про них:   Monstrious 
	Tooth — Agility (кольца)\nBloody Claw — Agility (ожере
	лье)\nBone Shard — Willpower (кольца)\nDark Ether — W
	illpower (ожерелье)\nMark of the Legion — Enduran
	ce (ожерелье) Игроки
	 160+ за Даггерфол
	л Ковенант\, приход
	ите на вылазку в И
	мперский Город!\n​Зачем нам 
	это:\n1. убьем всех на своем пу
	ти (PvP / PvE)\n2. захваты
	ваем флаги\, получаем алья
	нс поинты - информация о них здесь:http://en.ue
	sp.net/w...Alliance_Points\n3. фармим тел
	ь-вары! - информация о них здесь: http://www.teson
	line...ones-guide-8927\n4. закрываем бос
	сов - информация о них здесь: http://esoacademy.co
	...al-city-bosses/\n​5. собераем скайшарды
	\, в рекламе не нуждаются!
DTSTART:20181029T173000Z
ATTENDEE;CN="Keshanberg";CUTYPE=INDIVIDUAL;PARTSTAT=ACCEPTED
	:web@bandits-clan.ru
ATTENDEE;CN="Kotolypovka";CUTYPE=INDIVIDUAL;PARTSTAT=ACCEPTE
	D:web@bandits-clan.ru
ATTENDEE;CN="DariusL";CUTYPE=INDIVIDUAL;PARTSTAT=ACCEPTED:we
	b@bandits-clan.ru
ATTENDEE;CN="Shiro";CUTYPE=INDIVIDUAL;PARTSTAT=ACCEPTED:web@
	bandits-clan.ru
ATTENDEE;CN="Vaishan";CUTYPE=INDIVIDUAL;PARTSTAT=ACCEPTED:we
	b@bandits-clan.ru
END:VEVENT
END:VCALENDAR
