BEGIN:VCALENDAR
VERSION:2.0
PRODID:-//InvisionCommunity Events 4.7.14//EN
METHOD:PUBLISH
CALSCALE:GREGORIAN
REFRESH-INTERVAL:PT15M
X-PUBLISHED-TTL:PT15M
X-WR-CALNAME:The Elder Scrolls Online
NAME:The Elder Scrolls Online
BEGIN:VTIMEZONE
TZID:Europe/London
TZURL:http://tzurl.org/zoneinfo/Europe/London
X-LIC-LOCATION:Europe/London
BEGIN:DAYLIGHT
TZOFFSETFROM:+0000
TZOFFSETTO:+0100
TZNAME:BST
DTSTART:20170326T020000Z
RRULE:FREQ=YEARLY;BYMONTH=3;BYDAY=-1SU
END:DAYLIGHT
BEGIN:STANDARD
TZOFFSETFROM:+0100
TZOFFSETTO:+0000
TZNAME:GMT
DTSTART:20171029T020000Z
RRULE:FREQ=YEARLY;BYMONTH=10;BYDAY=-1SU
END:STANDARD
END:VTIMEZONE
BEGIN:VEVENT
SUMMARY:[TESO] vMoL
DTSTAMP:20171109T200728Z
SEQUENCE:2
UID:2679-1-afb15bc42254ad5fb0481ce5e9c8144d@forum.bandits-clan.ru
ORGANIZER;CN="un_Dead":web@bandits-clan.ru
DESCRIPTION:Требования:\nРанг гильди
	и не ниже Veteran Bandit (при
	оритет на игроков с более высоки
	м званием )\;\nНаличие DLC - Thieves Guil
	d\;\nУстановленный аддон Raid
	 Notifier\; В рейд буду
	т взяты: люди
	 кто имеет о
	пыт прохожд
	ения мола либ
	о НЕОДНОКРАТНО
	 были на ракате.
	 Цель рейда: за
	крытие мола а 
	так же ачивок мол
	а в случаи сильного рей
	да( на усмотрение рла). Сос
	тав:\n2 Tank( алкош (лунар бастион\, асалт) 
	и 1 эбон)\n2 Heal(2spq 1 worm 1 ia or 1tvr)\n8 DD (4MDD(dps от 34к
	) 4RDD(dps от 30к))\, приоритет манна дд!
DTSTART:20171110T180000Z
ATTENDEE;CN="sergey.provkin";CUTYPE=INDIVIDUAL;PARTSTAT=ACCE
	PTED:web@bandits-clan.ru
ATTENDEE;CN="un_Dead";CUTYPE=INDIVIDUAL;PARTSTAT=ACCEPTED:we
	b@bandits-clan.ru
ATTENDEE;CN="SheiZan";CUTYPE=INDIVIDUAL;PARTSTAT=ACCEPTED:we
	b@bandits-clan.ru
ATTENDEE;CN="Mistz";CUTYPE=INDIVIDUAL;PARTSTAT=ACCEPTED:web@
	bandits-clan.ru
ATTENDEE;CN="el_jerbo";CUTYPE=INDIVIDUAL;PARTSTAT=ACCEPTED:w
	eb@bandits-clan.ru
ATTENDEE;CN="Hoft";CUTYPE=INDIVIDUAL;PARTSTAT=ACCEPTED:web@b
	andits-clan.ru
END:VEVENT
END:VCALENDAR
