BEGIN:VCALENDAR
VERSION:2.0
PRODID:-//InvisionCommunity Events 4.7.14//EN
METHOD:PUBLISH
CALSCALE:GREGORIAN
REFRESH-INTERVAL:PT15M
X-PUBLISHED-TTL:PT15M
X-WR-CALNAME:The Elder Scrolls Online
NAME:The Elder Scrolls Online
BEGIN:VTIMEZONE
TZID:Europe/London
TZURL:http://tzurl.org/zoneinfo/Europe/London
X-LIC-LOCATION:Europe/London
BEGIN:DAYLIGHT
TZOFFSETFROM:+0000
TZOFFSETTO:+0100
TZNAME:BST
DTSTART:20170326T020000Z
RRULE:FREQ=YEARLY;BYMONTH=3;BYDAY=-1SU
END:DAYLIGHT
BEGIN:STANDARD
TZOFFSETFROM:+0100
TZOFFSETTO:+0000
TZNAME:GMT
DTSTART:20171029T020000Z
RRULE:FREQ=YEARLY;BYMONTH=10;BYDAY=-1SU
END:STANDARD
END:VTIMEZONE
BEGIN:VEVENT
SUMMARY:Учебные триалы для регионов С
	ИБИРЬ-ДВ (нормал)
DTSTAMP:20170708T172041Z
SEQUENCE:0
UID:2182-1-afb15bc42254ad5fb0481ce5e9c8144d@forum.bandits-clan.ru
ORGANIZER;CN="c@6aka":web@bandits-clan.ru
DESCRIPTION:\nС 15 00 по Мск\n\nСоб
	ытие длится пр
	имерно 3 часа\,
	 каждый час мо
	жно присоединитьс
	я к группе при наличии
	 мест\, заходите в тс.\n
	\nДостиг отметки в 
	160 чемпионских оч
	ка\, а чуда не п
	роизошло? Лю
	бишь играть в
	 команде и жа
	леешь что ж
	изнь гильди
	и проходит 
	мимо? Хочеш
	ь попадать 
	в рейтингов
	ые таблицы и
	 закрывать то
	повый игровой
	 контент? Может 
	быть тебе не хв
	атает сетов для з
	аветных цифр в дпс
	?\nТогда жми кнопк
	у пойду\, и начин
	ай утюжить таб
	ард\, ведь именной
	 в этот день ты 
	начнешь свое продв
	ижение к цели. А я с
	 радостью тебе 
	помогу.\n\nЧто н
	ас ждет? Нормал
	 версии триалов 
	Аэтерианский а
	рхив\, Цитадель Хел
	 Ра\, Святилище Офи
	дия\, Утроба Лоркхаджа
	 (МоЛ). (любые два на выбо
	р группы.)\n\nЧто нам нуж
	но? Ты и еще 11 человек от 160
	 Чемпионских очков - 1-
	2 танка\, 2 хилера\, о
	стальные - любые
	 дд. Приоритет н
	овичкам и все
	м\, кому удобно 
	играть по врем
	ени Сибири и Да
	льневосточного 
	региона.\n\nМы сд
	елаем это быстр
	о! Мы нафармим сеты
	 с нужными трейтами! 
	Получим ачивки\, мотивы 
	и опыт!\n\nТребования:\n1 Тимспик\, \n2 та
	бард гильдии.
DTSTART:20170713T120000Z
ATTENDEE;CN="c@6aka";CUTYPE=INDIVIDUAL;PARTSTAT=ACCEPTED:web
	@bandits-clan.ru
ATTENDEE;CN="Kuznec";CUTYPE=INDIVIDUAL;PARTSTAT=ACCEPTED:web
	@bandits-clan.ru
ATTENDEE;CN="virtue";CUTYPE=INDIVIDUAL;PARTSTAT=ACCEPTED:web
	@bandits-clan.ru
ATTENDEE;CN="Buzyan";CUTYPE=INDIVIDUAL;PARTSTAT=ACCEPTED:web
	@bandits-clan.ru
ATTENDEE;CN="jaison555";CUTYPE=INDIVIDUAL;PARTSTAT=ACCEPTED:
	web@bandits-clan.ru
ATTENDEE;CN="Bull37";CUTYPE=INDIVIDUAL;PARTSTAT=ACCEPTED:web
	@bandits-clan.ru
ATTENDEE;CN="Ymep";CUTYPE=INDIVIDUAL;PARTSTAT=ACCEPTED:web@b
	andits-clan.ru
ATTENDEE;CN="hosty";CUTYPE=INDIVIDUAL;PARTSTAT=ACCEPTED:web@
	bandits-clan.ru
ATTENDEE;CN="Red_Arrow";CUTYPE=INDIVIDUAL;PARTSTAT=ACCEPTED:
	web@bandits-clan.ru
END:VEVENT
END:VCALENDAR
