BEGIN:VCALENDAR
VERSION:2.0
PRODID:-//InvisionCommunity Events 4.7.14//EN
METHOD:PUBLISH
CALSCALE:GREGORIAN
REFRESH-INTERVAL:PT15M
X-PUBLISHED-TTL:PT15M
X-WR-CALNAME:The Elder Scrolls Online
NAME:The Elder Scrolls Online
BEGIN:VTIMEZONE
TZID:Europe/London
TZURL:http://tzurl.org/zoneinfo/Europe/London
X-LIC-LOCATION:Europe/London
BEGIN:DAYLIGHT
TZOFFSETFROM:+0000
TZOFFSETTO:+0100
TZNAME:BST
DTSTART:20260329T020000Z
RRULE:FREQ=YEARLY;BYMONTH=3;BYDAY=-1SU
END:DAYLIGHT
BEGIN:STANDARD
TZOFFSETFROM:+0100
TZOFFSETTO:+0000
TZNAME:GMT
DTSTART:20261025T020000Z
RRULE:FREQ=YEARLY;BYMONTH=10;BYDAY=-1SU
END:STANDARD
END:VTIMEZONE
BEGIN:VEVENT
SUMMARY:Сиродиил кампания без Очков Геро
	я
DTSTAMP:20260423T090106Z
SEQUENCE:0
UID:14942-1-afb15bc42254ad5fb0481ce5e9c8144d@forum.bandits-clan.ru
ORGANIZER;CN="Bandit":web@bandits-clan.ru
DESCRIPTION:Открытый П
	ВП-рейд в комп
	анию Месть за Эб
	онхартский Пакт 
	(Красные) для фарма ачивк
	и и прочего (АП\, твинки 
	и просто фан) с 20:00
	 (ориентировочно 
	2 часа).Здесь же ф
	армится сезонно
	е событие на 100 св
	ершений (делае
	тся на любых гв
	ардах в Сиро)\n
	За красных б
	егаем временно
	 только в этой комп
	ании (без именной 
	таблички сообществ
	а Bandits) исключительно для
	 фарма ачивки.\nГолосовая 
	связь Рейд TESO #5.\nТребо
	вания:\n- Альянс - Эбо
	нхартский Пакт (крас
	ные)\n- Персонаж 10+
	\nЖелательно:\n- 
	подготовить п
	ерсонажа (выст
	авить навыки\,
	 пассивки\, пр
	едметы на горячую панель) За
	писаться на событие и принять участие
DTSTART:20260423T170000Z
DTEND:20260423T170500Z
END:VEVENT
END:VCALENDAR
