BEGIN:VCALENDAR
VERSION:2.0
PRODID:-//InvisionCommunity Events 4.7.14//EN
METHOD:PUBLISH
CALSCALE:GREGORIAN
REFRESH-INTERVAL:PT15M
X-PUBLISHED-TTL:PT15M
X-WR-CALNAME:The Elder Scrolls Online
NAME:The Elder Scrolls Online
BEGIN:VTIMEZONE
TZID:Europe/London
TZURL:http://tzurl.org/zoneinfo/Europe/London
X-LIC-LOCATION:Europe/London
BEGIN:DAYLIGHT
TZOFFSETFROM:+0000
TZOFFSETTO:+0100
TZNAME:BST
DTSTART:20260329T020000Z
RRULE:FREQ=YEARLY;BYMONTH=3;BYDAY=-1SU
END:DAYLIGHT
BEGIN:STANDARD
TZOFFSETFROM:+0100
TZOFFSETTO:+0000
TZNAME:GMT
DTSTART:20261025T020000Z
RRULE:FREQ=YEARLY;BYMONTH=10;BYDAY=-1SU
END:STANDARD
END:VTIMEZONE
BEGIN:VEVENT
SUMMARY:Сиродиил кампания без Очков Геро
	я
DTSTAMP:20260421T192722Z
SEQUENCE:0
UID:14936-1-afb15bc42254ad5fb0481ce5e9c8144d@forum.bandits-clan.ru
ORGANIZER;CN="Bandit":web@bandits-clan.ru
DESCRIPTION:Открытый П
	ВП-рейд в комп
	анию Месть за Эб
	онхартский Пакт 
	(Красные) для фарма ачивк
	и и прочего (АП\, твинки и
	 просто фан) с 20:00 
	(ориентировочн
	о 2 часа).За кра
	сных бегаем
	 временно только в 
	этой компании (без
	 именной таблички с
	ообщества Bandits) и
	сключительно для фар
	ма ачивки.\nГолосовая свя
	зь Рейд TESO #5.\nТребования
	:\n- Альянс - Эбонхартский 
	Пакт (красные)\n- Пер
	сонаж 10+\nЖелател
	ьно:\n- подготови
	ть персонажа (в
	ыставить навык
	и\, пассивки\, 
	предметы на горячую пане
	ль) Записаться на событие и принять уча
	стие
DTSTART:20260422T170000Z
DTEND:20260422T170500Z
END:VEVENT
END:VCALENDAR
