BEGIN:VCALENDAR
VERSION:2.0
PRODID:-//InvisionCommunity Events 4.7.14//EN
METHOD:PUBLISH
CALSCALE:GREGORIAN
REFRESH-INTERVAL:PT15M
X-PUBLISHED-TTL:PT15M
X-WR-CALNAME:The Elder Scrolls Online
NAME:The Elder Scrolls Online
BEGIN:VTIMEZONE
TZID:Europe/London
TZURL:http://tzurl.org/zoneinfo/Europe/London
X-LIC-LOCATION:Europe/London
BEGIN:DAYLIGHT
TZOFFSETFROM:+0000
TZOFFSETTO:+0100
TZNAME:BST
DTSTART:20260329T020000Z
RRULE:FREQ=YEARLY;BYMONTH=3;BYDAY=-1SU
END:DAYLIGHT
BEGIN:STANDARD
TZOFFSETFROM:+0100
TZOFFSETTO:+0000
TZNAME:GMT
DTSTART:20261025T020000Z
RRULE:FREQ=YEARLY;BYMONTH=10;BYDAY=-1SU
END:STANDARD
END:VTIMEZONE
BEGIN:VEVENT
SUMMARY:Сиродиил кампания с Очками Героя
DTSTAMP:20260421T045949Z
SEQUENCE:0
UID:14935-1-afb15bc42254ad5fb0481ce5e9c8144d@forum.bandits-clan.ru
ORGANIZER;CN="Bandit":web@bandits-clan.ru
DESCRIPTION:Открытый П
	ВП-рейд в комп
	анию Месть за Еб
	онхартский Пакт 
	(Красные) для фарма ачивк
	и и прочего (АП\, твинки и 
	просто фан) с 20:00 (о
	риентировочно 1
	-2 часа).За крас
	ных бегаем 
	временно только в э
	той компании (без 
	именной таблички с
	ообщества Bandits) и
	сключительно для фар
	ма ачивки.\nГолосовая св
	язь Рейд TESO #5\nТребовани
	я:\n- Альянс - Эбонхартски
	й Пакт (красные)\n- Пе
	рсонаж 10+\nЖелате
	льно:\n- подготов
	ить персонажа (
	выставить навы
	ки\, пассивки\,
	 предметы на горячую па
	нель) Записаться на событие и принять 
	участие
DTSTART:20260421T170000Z
DTEND:20260421T170500Z
END:VEVENT
END:VCALENDAR
