BEGIN:VCALENDAR
VERSION:2.0
PRODID:-//InvisionCommunity Events 4.7.14//EN
METHOD:PUBLISH
CALSCALE:GREGORIAN
REFRESH-INTERVAL:PT15M
X-PUBLISHED-TTL:PT15M
X-WR-CALNAME:The Elder Scrolls Online
NAME:The Elder Scrolls Online
BEGIN:VTIMEZONE
TZID:Europe/London
TZURL:http://tzurl.org/zoneinfo/Europe/London
X-LIC-LOCATION:Europe/London
BEGIN:DAYLIGHT
TZOFFSETFROM:+0000
TZOFFSETTO:+0100
TZNAME:BST
DTSTART:20260329T020000Z
RRULE:FREQ=YEARLY;BYMONTH=3;BYDAY=-1SU
END:DAYLIGHT
BEGIN:STANDARD
TZOFFSETFROM:+0100
TZOFFSETTO:+0000
TZNAME:GMT
DTSTART:20261025T020000Z
RRULE:FREQ=YEARLY;BYMONTH=10;BYDAY=-1SU
END:STANDARD
END:VTIMEZONE
BEGIN:VEVENT
SUMMARY:Имперский город кампания с Очка
	ми Героя
DTSTAMP:20260120T060948Z
SEQUENCE:0
UID:14816-1-afb15bc42254ad5fb0481ce5e9c8144d@forum.bandits-clan.ru
ORGANIZER;CN="Bandit":web@bandits-clan.ru
DESCRIPTION:Е-баш рейд по И
	мперке/Сиро. (баш би
	лд/бомбер/хил)\nБилд
	ы дадим - главное 
	желание.\n\nТреб
	ования:\n  Предвари
	тельная запись (
	кликаем и выбирае
	м роль)\n  Альянс - Даггерфолл
	 Ковенанта\n  Накидка гильдии Daggerfall Ba
	ndits\n  от 160 ОГ\n  от ~30к ХП\n 
	 исцеляющая вс
	пышка с чарописи.
	\n  Внимательно 
	и точно выполнять к
	оманды РЛ-а\n  Установлен
	ный и настроенный аддон
	 tim99s FTSIO (в настройк
	ах поставить 
	все три галочк
	и\, в управле
	нии назначить кнопку) Записаться на
	 событие и принять участие
DTSTART:20260122T170000Z
DTEND:20260122T170500Z
END:VEVENT
END:VCALENDAR
