BEGIN:VCALENDAR
VERSION:2.0
PRODID:-//InvisionCommunity Events 4.7.14//EN
METHOD:PUBLISH
CALSCALE:GREGORIAN
REFRESH-INTERVAL:PT15M
X-PUBLISHED-TTL:PT15M
X-WR-CALNAME:The Elder Scrolls Online
NAME:The Elder Scrolls Online
BEGIN:VTIMEZONE
TZID:Europe/London
TZURL:http://tzurl.org/zoneinfo/Europe/London
X-LIC-LOCATION:Europe/London
BEGIN:DAYLIGHT
TZOFFSETFROM:+0000
TZOFFSETTO:+0100
TZNAME:BST
DTSTART:20250330T020000Z
RRULE:FREQ=YEARLY;BYMONTH=3;BYDAY=-1SU
END:DAYLIGHT
BEGIN:STANDARD
TZOFFSETFROM:+0100
TZOFFSETTO:+0000
TZNAME:GMT
DTSTART:20251026T020000Z
RRULE:FREQ=YEARLY;BYMONTH=10;BYDAY=-1SU
END:STANDARD
END:VTIMEZONE
BEGIN:VEVENT
SUMMARY:Сиродиил кампания без Очков Геро
	я
DTSTAMP:20251109T060046Z
SEQUENCE:0
UID:14707-1-afb15bc42254ad5fb0481ce5e9c8144d@forum.bandits-clan.ru
ORGANIZER;CN="Bandit":web@bandits-clan.ru
DESCRIPTION:ребования:- Алья
	нс - Даггерфолл Ковенан
	та\n- Персонаж от 10 уровня\
	n- Накидка гильдии Bandi
	ts\n- Возможен захо
	д на Серую рать/
	Черный предел\
	n- Наличие на пан
	ели навыка Громки
	й клич (морф навык
	а Бодрый клич\, в
	етка Военные -
	 Штурм) и его 
	постоянное ис
	пользование\, ли
	бо аналог массовог
	о хила из чарописи\
	n- Тестируем аддон WPamA Записаться 
	на событие и принять участие
DTSTART:20251115T080000Z
DTEND:20251115T080500Z
END:VEVENT
END:VCALENDAR
