BEGIN:VCALENDAR
VERSION:2.0
PRODID:-//InvisionCommunity Events 4.7.14//EN
METHOD:PUBLISH
CALSCALE:GREGORIAN
REFRESH-INTERVAL:PT15M
X-PUBLISHED-TTL:PT15M
X-WR-CALNAME:The Elder Scrolls Online
NAME:The Elder Scrolls Online
BEGIN:VTIMEZONE
TZID:Europe/London
TZURL:http://tzurl.org/zoneinfo/Europe/London
X-LIC-LOCATION:Europe/London
BEGIN:DAYLIGHT
TZOFFSETFROM:+0000
TZOFFSETTO:+0100
TZNAME:BST
DTSTART:20250330T020000Z
RRULE:FREQ=YEARLY;BYMONTH=3;BYDAY=-1SU
END:DAYLIGHT
BEGIN:STANDARD
TZOFFSETFROM:+0100
TZOFFSETTO:+0000
TZNAME:GMT
DTSTART:20251026T020000Z
RRULE:FREQ=YEARLY;BYMONTH=10;BYDAY=-1SU
END:STANDARD
END:VTIMEZONE
BEGIN:VEVENT
SUMMARY:Ветеран
	ское испытание Солнечный шпиль У
	сложнение на всех боссах (vSS HM+3)
DTSTAMP:20251106T180836Z
SEQUENCE:0
UID:14704-1-afb15bc42254ad5fb0481ce5e9c8144d@forum.bandits-clan.ru
ORGANIZER;CN="Bandit":web@bandits-clan.ru
DESCRIPTION:Обучающий рейд. С
	бор за 10 минут до начала рейда. \n
	**Требования:**\n- Звание Superior Bandit\n- 
	ДПС от 110 тыс.\n- Аддон OdySupportIcons - Group Role Ico
	ns & More\n- Аддон CrutchAlerts\n- Доп
	олнение Эльсвейр или 
	подписка\n \nПлановое 
	время рейда: 2 часа 5 м
	инут\n \n Записаться на событие и при
	нять участие
DTSTART:20251113T170000Z
DTEND:20251113T170500Z
END:VEVENT
END:VCALENDAR
