BEGIN:VCALENDAR
VERSION:2.0
PRODID:-//InvisionCommunity Events 4.7.14//EN
METHOD:PUBLISH
CALSCALE:GREGORIAN
REFRESH-INTERVAL:PT15M
X-PUBLISHED-TTL:PT15M
X-WR-CALNAME:The Elder Scrolls Online
NAME:The Elder Scrolls Online
BEGIN:VTIMEZONE
TZID:Europe/London
TZURL:http://tzurl.org/zoneinfo/Europe/London
X-LIC-LOCATION:Europe/London
BEGIN:DAYLIGHT
TZOFFSETFROM:+0000
TZOFFSETTO:+0100
TZNAME:BST
DTSTART:20250330T020000Z
RRULE:FREQ=YEARLY;BYMONTH=3;BYDAY=-1SU
END:DAYLIGHT
BEGIN:STANDARD
TZOFFSETFROM:+0100
TZOFFSETTO:+0000
TZNAME:GMT
DTSTART:20251026T020000Z
RRULE:FREQ=YEARLY;BYMONTH=10;BYDAY=-1SU
END:STANDARD
END:VTIMEZONE
BEGIN:VEVENT
SUMMARY:Имперский город кампания с Очка
	ми Героя
DTSTAMP:20250810T181209Z
SEQUENCE:0
UID:14558-1-afb15bc42254ad5fb0481ce5e9c8144d@forum.bandits-clan.ru
ORGANIZER;CN="Bandit":web@bandits-clan.ru
DESCRIPTION:Фановый пвп-рейд
	 по Имперке. \nТребо
	вания:\n  Альянс - Даггерфолл 
	Ковенанта\n  Накидка гильдии Daggerfall Ba
	ndits\n  от 160 ОГ\n  ХП от 28 к
	\n  Внимательно 
	и точно выполнять к
	оманды РЛ-а\n  Установлен
	ный и настроенный аддон
	 tim99s FTSIO (в настройк
	ах поставить 
	все три галочк
	и\, в управле
	нии назначить кнопку) Записаться на
	 событие и принять участие
DTSTART:20250817T160000Z
DTEND:20250817T160500Z
END:VEVENT
END:VCALENDAR
