BEGIN:VCALENDAR
VERSION:2.0
PRODID:-//InvisionCommunity Events 4.7.14//EN
METHOD:PUBLISH
CALSCALE:GREGORIAN
REFRESH-INTERVAL:PT15M
X-PUBLISHED-TTL:PT15M
X-WR-CALNAME:The Elder Scrolls Online
NAME:The Elder Scrolls Online
BEGIN:VTIMEZONE
TZID:Europe/London
TZURL:http://tzurl.org/zoneinfo/Europe/London
X-LIC-LOCATION:Europe/London
BEGIN:DAYLIGHT
TZOFFSETFROM:+0000
TZOFFSETTO:+0100
TZNAME:BST
DTSTART:20250330T020000Z
RRULE:FREQ=YEARLY;BYMONTH=3;BYDAY=-1SU
END:DAYLIGHT
BEGIN:STANDARD
TZOFFSETFROM:+0100
TZOFFSETTO:+0000
TZNAME:GMT
DTSTART:20251026T020000Z
RRULE:FREQ=YEARLY;BYMONTH=10;BYDAY=-1SU
END:STANDARD
END:VTIMEZONE
BEGIN:VEVENT
SUMMARY:Имперский город кампания без О
	чков Героя
DTSTAMP:20250802T152943Z
SEQUENCE:0
UID:14548-1-afb15bc42254ad5fb0481ce5e9c8144d@forum.bandits-clan.ru
ORGANIZER;CN="Bandit":web@bandits-clan.ru
DESCRIPTION:Обучающий р
	ейд в Имперский г
	ород без ОГ (возмо
	жен заход в ОГ) на 
	2 часаДелаем все 
	квесты имперки\, 
	бьем боссов\, фар
	мим тельвары\, 
	грабим корованы\, в з
	авершение Молаг Бал. Го
	лосовая связь Рейд TE
	SO #5\nТребования:\n- Аль
	янс - Даггерфольск
	ий Ковенант\n- Персонаж о
	т 10 уровня\n- Накидка с
	ообщества Bandits (ж
	елающие бегать в 
	данном рейде постоянно\, вступ
	аем в нашу пвп-гильдию Daggerfa
	ll Bandits и надеваем на ее нак
	идку)\nЖелательно:\n- ХП от 28к (
	чтоб не вайпать рейд)\n- а
	ддон tim99s FTSIO (ч
	тоб самост
	оятельно б
	ыстро теле
	портировать
	ся через Сиро
	 и обратно. В
	 настройках
	 аддона пост
	авить все га
	лочки и назн
	ачить горячую
	 кнопку для портала) Записаться на соб
	ытие и принять участие
DTSTART:20250809T160000Z
DTEND:20250809T160500Z
END:VEVENT
END:VCALENDAR
