BEGIN:VCALENDAR
VERSION:2.0
PRODID:-//InvisionCommunity Events 4.7.14//EN
METHOD:PUBLISH
CALSCALE:GREGORIAN
REFRESH-INTERVAL:PT15M
X-PUBLISHED-TTL:PT15M
X-WR-CALNAME:The Elder Scrolls Online
NAME:The Elder Scrolls Online
BEGIN:VTIMEZONE
TZID:Europe/London
TZURL:http://tzurl.org/zoneinfo/Europe/London
X-LIC-LOCATION:Europe/London
BEGIN:DAYLIGHT
TZOFFSETFROM:+0000
TZOFFSETTO:+0100
TZNAME:BST
DTSTART:20250330T020000Z
RRULE:FREQ=YEARLY;BYMONTH=3;BYDAY=-1SU
END:DAYLIGHT
BEGIN:STANDARD
TZOFFSETFROM:+0100
TZOFFSETTO:+0000
TZNAME:GMT
DTSTART:20251026T020000Z
RRULE:FREQ=YEARLY;BYMONTH=10;BYDAY=-1SU
END:STANDARD
END:VTIMEZONE
BEGIN:VEVENT
SUMMARY:Имперский город кампания с Очка
	ми Героя
DTSTAMP:20250704T121807Z
SEQUENCE:0
UID:14483-1-afb15bc42254ad5fb0481ce5e9c8144d@forum.bandits-clan.ru
ORGANIZER;CN="Bandit":web@bandits-clan.ru
DESCRIPTION:Фановый пвп-рейд. 
	Имперка. 1-2 часа/по настр
	оению\n\n\nТребования:\n\n
	    Альянс - Даггерфолл Ковенанта\n
	    Накидка гильдии Daggerfall Bandits\n    От 160 
	ОГ\n    От 30 хп\n    Вни
	мательно и точ
	но выполнять команды РЛ-а\
	, Записаться на событие и принять участи
	е
DTSTART:20250704T180000Z
DTEND:20250704T180500Z
END:VEVENT
END:VCALENDAR
