BEGIN:VCALENDAR
VERSION:2.0
PRODID:-//InvisionCommunity Events 4.7.14//EN
METHOD:PUBLISH
CALSCALE:GREGORIAN
REFRESH-INTERVAL:PT15M
X-PUBLISHED-TTL:PT15M
X-WR-CALNAME:The Elder Scrolls Online
NAME:The Elder Scrolls Online
BEGIN:VTIMEZONE
TZID:Europe/London
TZURL:http://tzurl.org/zoneinfo/Europe/London
X-LIC-LOCATION:Europe/London
BEGIN:DAYLIGHT
TZOFFSETFROM:+0000
TZOFFSETTO:+0100
TZNAME:BST
DTSTART:20250330T020000Z
RRULE:FREQ=YEARLY;BYMONTH=3;BYDAY=-1SU
END:DAYLIGHT
BEGIN:STANDARD
TZOFFSETFROM:+0100
TZOFFSETTO:+0000
TZNAME:GMT
DTSTART:20251026T020000Z
RRULE:FREQ=YEARLY;BYMONTH=10;BYDAY=-1SU
END:STANDARD
END:VTIMEZONE
BEGIN:VEVENT
SUMMARY:Имперский город кампания без О
	чков Героя
DTSTAMP:20250531T182004Z
SEQUENCE:0
UID:14405-1-afb15bc42254ad5fb0481ce5e9c8144d@forum.bandits-clan.ru
ORGANIZER;CN="Bandit":web@bandits-clan.ru
DESCRIPTION:Обучающий р
	ейд в Имперский г
	ород без ОГ (возмо
	жен заход в ОГ) на 
	2 часаДелаем все 
	квесты имперки\,
	 бьем боссов\, 
	фармим тельва
	ры\, грабим ко
	рованы. В завершение во
	зможно Молаг Бал. Голосова
	я связь Рейд TESO #5\n \nТ
	ребования:\n- Альянс 
	- Даггерфольский Ко
	венант\n- Персонаж от 10
	 уровня\n- ХП (здоров
	ье персонажа) не ниже 28к 
	(не нужно приходить в рейд с 19-20к
	 хп)\n- Накидка гильдии Daggerfall 
	Bandits (новички и еще не состоящие 
	в Daggerfall Bandits могут приходить
	 в накидках сообщества Bandits\, в д
	альнейшем ждем вас в Daggerfa
	ll Bandits) Записаться на событие и приня
	ть участие
DTSTART:20250607T160000Z
DTEND:20250607T160500Z
END:VEVENT
END:VCALENDAR
