BEGIN:VCALENDAR
VERSION:2.0
PRODID:-//InvisionCommunity Events 4.7.14//EN
METHOD:PUBLISH
CALSCALE:GREGORIAN
REFRESH-INTERVAL:PT15M
X-PUBLISHED-TTL:PT15M
X-WR-CALNAME:The Elder Scrolls Online
NAME:The Elder Scrolls Online
BEGIN:VTIMEZONE
TZID:Europe/London
TZURL:http://tzurl.org/zoneinfo/Europe/London
X-LIC-LOCATION:Europe/London
BEGIN:DAYLIGHT
TZOFFSETFROM:+0000
TZOFFSETTO:+0100
TZNAME:BST
DTSTART:20250330T020000Z
RRULE:FREQ=YEARLY;BYMONTH=3;BYDAY=-1SU
END:DAYLIGHT
BEGIN:STANDARD
TZOFFSETFROM:+0100
TZOFFSETTO:+0000
TZNAME:GMT
DTSTART:20251026T020000Z
RRULE:FREQ=YEARLY;BYMONTH=10;BYDAY=-1SU
END:STANDARD
END:VTIMEZONE
BEGIN:VEVENT
SUMMARY:Имперский город кампания без О
	чков Героя
DTSTAMP:20250531T123331Z
SEQUENCE:0
UID:14404-1-afb15bc42254ad5fb0481ce5e9c8144d@forum.bandits-clan.ru
ORGANIZER;CN="Bandit":web@bandits-clan.ru
DESCRIPTION:Фановый рейд 
	оборотнями\nТребов
	ания:\n- Сообщить 
	в ЛС о намерении идт
	и в рейд\, и предос
	тавить скрин сборки
	.\n- Альянс - Даггерфолл К
	овенанта\n- Оборотень\n-
	 Накидка гильдии Bandits
	\n- Внимательно 
	и точно выполнять к
	оманды РЛ-а\n- Установленны
	й и настроенный аддон tim99s
	 FTSIO \nКвестики\, бос
	сы\, Молаг бал) Записаться на событи
	е и принять участие
DTSTART:20250602T180000Z
DTEND:20250602T180500Z
END:VEVENT
END:VCALENDAR
