BEGIN:VCALENDAR
VERSION:2.0
PRODID:-//InvisionCommunity Events 4.7.14//EN
METHOD:PUBLISH
CALSCALE:GREGORIAN
REFRESH-INTERVAL:PT15M
X-PUBLISHED-TTL:PT15M
X-WR-CALNAME:The Elder Scrolls Online
NAME:The Elder Scrolls Online
BEGIN:VTIMEZONE
TZID:Europe/London
TZURL:http://tzurl.org/zoneinfo/Europe/London
X-LIC-LOCATION:Europe/London
BEGIN:DAYLIGHT
TZOFFSETFROM:+0000
TZOFFSETTO:+0100
TZNAME:BST
DTSTART:20250330T020000Z
RRULE:FREQ=YEARLY;BYMONTH=3;BYDAY=-1SU
END:DAYLIGHT
BEGIN:STANDARD
TZOFFSETFROM:+0100
TZOFFSETTO:+0000
TZNAME:GMT
DTSTART:20251026T020000Z
RRULE:FREQ=YEARLY;BYMONTH=10;BYDAY=-1SU
END:STANDARD
END:VTIMEZONE
BEGIN:VEVENT
SUMMARY:Ветеранское испытание
	 Изоляционный Санктуарий +1 (vAS +1)
DTSTAMP:20250511T192953Z
SEQUENCE:0
UID:14362-1-afb15bc42254ad5fb0481ce5e9c8144d@forum.bandits-clan.ru
ORGANIZER;CN="Bandit":web@bandits-clan.ru
DESCRIPTION:Обучающий рейд.
	 2 захода на разных ми
	ников. Сбор за 10 минут до на
	чала рейда. \n**Требования:**\n- Звание V
	eteran Bandit\n- ДПС от 70 тыс.\n- Аддон Asylum Tracker\
	n- Аддон AsylumTracker.LangPatch\n- Аддон AsylumNotifier.Lan
	gPatch\n- Аддон OdySupportIcons - Group Role Icons & More
	\n- Дополнение Заво
	дной Город или под
	писка\n \nПлановое 
	время рейда: 2 часа 5 минут 
	Записаться на событие и принять участие
DTSTART:20250516T140000Z
DTEND:20250516T140500Z
END:VEVENT
END:VCALENDAR
