BEGIN:VCALENDAR
VERSION:2.0
PRODID:-//InvisionCommunity Events 4.7.14//EN
METHOD:PUBLISH
CALSCALE:GREGORIAN
REFRESH-INTERVAL:PT15M
X-PUBLISHED-TTL:PT15M
X-WR-CALNAME:The Elder Scrolls Online
NAME:The Elder Scrolls Online
BEGIN:VTIMEZONE
TZID:Europe/London
TZURL:http://tzurl.org/zoneinfo/Europe/London
X-LIC-LOCATION:Europe/London
BEGIN:DAYLIGHT
TZOFFSETFROM:+0000
TZOFFSETTO:+0100
TZNAME:BST
DTSTART:20250330T020000Z
RRULE:FREQ=YEARLY;BYMONTH=3;BYDAY=-1SU
END:DAYLIGHT
BEGIN:STANDARD
TZOFFSETFROM:+0100
TZOFFSETTO:+0000
TZNAME:GMT
DTSTART:20251026T020000Z
RRULE:FREQ=YEARLY;BYMONTH=10;BYDAY=-1SU
END:STANDARD
END:VTIMEZONE
BEGIN:VEVENT
SUMMARY:Нормальное испытание Клаудрест +
	2 (nCR +2)
DTSTAMP:20250426T195234Z
SEQUENCE:0
UID:14318-1-afb15bc42254ad5fb0481ce5e9c8144d@forum.bandits-clan.ru
ORGANIZER;CN="Bandit":web@bandits-clan.ru
DESCRIPTION:Фарм рейд на час. С
	бор за 10 минут до начала рейд
	а. \n**Требования:**\n- 160 Очков Героя\n- 
	Аддон Lock Weapon Swap\n- Допо
	лнение Саммерсет и
	ли подписка\n \nПла
	новое время рейда: 
	1 час 5 минут Записаться на собы
	тие и принять участие
DTSTART:20250430T140000Z
DTEND:20250430T140500Z
END:VEVENT
END:VCALENDAR
