BEGIN:VCALENDAR
VERSION:2.0
PRODID:-//InvisionCommunity Events 4.7.14//EN
METHOD:PUBLISH
CALSCALE:GREGORIAN
REFRESH-INTERVAL:PT15M
X-PUBLISHED-TTL:PT15M
X-WR-CALNAME:The Elder Scrolls Online
NAME:The Elder Scrolls Online
BEGIN:VTIMEZONE
TZID:Europe/London
TZURL:http://tzurl.org/zoneinfo/Europe/London
X-LIC-LOCATION:Europe/London
BEGIN:DAYLIGHT
TZOFFSETFROM:+0000
TZOFFSETTO:+0100
TZNAME:BST
DTSTART:20250330T020000Z
RRULE:FREQ=YEARLY;BYMONTH=3;BYDAY=-1SU
END:DAYLIGHT
BEGIN:STANDARD
TZOFFSETFROM:+0100
TZOFFSETTO:+0000
TZNAME:GMT
DTSTART:20251026T020000Z
RRULE:FREQ=YEARLY;BYMONTH=10;BYDAY=-1SU
END:STANDARD
END:VTIMEZONE
BEGIN:VEVENT
SUMMARY:Ветеран
	ское испытание Грань Безумия Усложне
	ние на всех боссах (vSE HM+3)
DTSTAMP:20250406T155304Z
SEQUENCE:0
UID:14252-1-afb15bc42254ad5fb0481ce5e9c8144d@forum.bandits-clan.ru
ORGANIZER;CN="Bandit":web@bandits-clan.ru
DESCRIPTION:Прогресс рейд. к
	акое то там РТ. Сбор за 10
	 минут до начала рейда. \n**Требовани
	я:**\n- Звание Superior Bandit\n- ДПС от 110 тыс.\n- А
	ддон Sanity's Edge Helper\n- Глава Не
	кром\n \nПлановое время
	 рейда: 2 часа 5 минут\n \n Запис
	аться на событие и принять участие
DTSTART:20250412T120000Z
DTEND:20250412T120500Z
END:VEVENT
END:VCALENDAR
