BEGIN:VCALENDAR
VERSION:2.0
PRODID:-//InvisionCommunity Events 4.7.14//EN
METHOD:PUBLISH
CALSCALE:GREGORIAN
REFRESH-INTERVAL:PT15M
X-PUBLISHED-TTL:PT15M
X-WR-CALNAME:The Elder Scrolls Online
NAME:The Elder Scrolls Online
BEGIN:VTIMEZONE
TZID:Europe/London
TZURL:http://tzurl.org/zoneinfo/Europe/London
X-LIC-LOCATION:Europe/London
BEGIN:DAYLIGHT
TZOFFSETFROM:+0000
TZOFFSETTO:+0100
TZNAME:BST
DTSTART:20250330T020000Z
RRULE:FREQ=YEARLY;BYMONTH=3;BYDAY=-1SU
END:DAYLIGHT
BEGIN:STANDARD
TZOFFSETFROM:+0100
TZOFFSETTO:+0000
TZNAME:GMT
DTSTART:20251026T020000Z
RRULE:FREQ=YEARLY;BYMONTH=10;BYDAY=-1SU
END:STANDARD
END:VTIMEZONE
BEGIN:VEVENT
SUMMARY:Ветеранское испытание Клаудрест
	 +3 (vCR +3)
DTSTAMP:20250330T180537Z
SEQUENCE:0
UID:14236-1-afb15bc42254ad5fb0481ce5e9c8144d@forum.bandits-clan.ru
ORGANIZER;CN="Bandit":web@bandits-clan.ru
DESCRIPTION:РЛ больной\, запис
	ь через постель. Ссылка в описа
	нии (c) @BarJen\nСтрого 18+\n\nА
	 вообще у меня ДР\, хо
	чу побегать и поругат
	ься на людей :)\n\n**
	Записываю только в р
	остер\, в саму запись не прин
	имаю!**\n\n*так что бегом в в
	етку*\n\nP.s. ростер 
	будет позже (хз когда) Записаться н
	а событие и принять участие
DTSTART:20250402T170000Z
DTEND:20250402T170500Z
END:VEVENT
END:VCALENDAR
