BEGIN:VCALENDAR
VERSION:2.0
PRODID:-//InvisionCommunity Events 4.7.14//EN
METHOD:PUBLISH
CALSCALE:GREGORIAN
REFRESH-INTERVAL:PT15M
X-PUBLISHED-TTL:PT15M
X-WR-CALNAME:The Elder Scrolls Online
NAME:The Elder Scrolls Online
BEGIN:VTIMEZONE
TZID:Europe/London
TZURL:http://tzurl.org/zoneinfo/Europe/London
X-LIC-LOCATION:Europe/London
BEGIN:DAYLIGHT
TZOFFSETFROM:+0000
TZOFFSETTO:+0100
TZNAME:BST
DTSTART:20250330T020000Z
RRULE:FREQ=YEARLY;BYMONTH=3;BYDAY=-1SU
END:DAYLIGHT
BEGIN:STANDARD
TZOFFSETFROM:+0100
TZOFFSETTO:+0000
TZNAME:GMT
DTSTART:20251026T020000Z
RRULE:FREQ=YEARLY;BYMONTH=10;BYDAY=-1SU
END:STANDARD
END:VTIMEZONE
BEGIN:VEVENT
SUMMARY:Сиродиил кампания с Очками Героя
DTSTAMP:20250321T152341Z
SEQUENCE:0
UID:14204-1-afb15bc42254ad5fb0481ce5e9c8144d@forum.bandits-clan.ru
ORGANIZER;CN="Bandit":web@bandits-clan.ru
DESCRIPTION:Сиродильск
	ий час для мален
	ьких.\nГрабив кор
	ованы\, выполняем кв
	естики.\n\nТребован
	ия:\nХП желательно
	 не меньше 30к\nМас
	совая хилка на п
	анели (Громкий к
	лич или чаропись)\n
	 Альянс - Даггерфол
	л Ковенанта\n Персонаж от 10 уровн
	я\n  Накидка гильдии Daggerfall 
	Bandits\n  Вниматель
	но и точно вып
	олнять команды РЛ-а Записаться на событ
	ие и принять участие
DTSTART:20250321T170000Z
DTEND:20250321T170500Z
END:VEVENT
END:VCALENDAR
