BEGIN:VCALENDAR
VERSION:2.0
PRODID:-//InvisionCommunity Events 4.7.14//EN
METHOD:PUBLISH
CALSCALE:GREGORIAN
REFRESH-INTERVAL:PT15M
X-PUBLISHED-TTL:PT15M
X-WR-CALNAME:The Elder Scrolls Online
NAME:The Elder Scrolls Online
BEGIN:VTIMEZONE
TZID:Europe/London
TZURL:http://tzurl.org/zoneinfo/Europe/London
X-LIC-LOCATION:Europe/London
BEGIN:DAYLIGHT
TZOFFSETFROM:+0000
TZOFFSETTO:+0100
TZNAME:BST
DTSTART:20250330T020000Z
RRULE:FREQ=YEARLY;BYMONTH=3;BYDAY=-1SU
END:DAYLIGHT
BEGIN:STANDARD
TZOFFSETFROM:+0100
TZOFFSETTO:+0000
TZNAME:GMT
DTSTART:20251026T020000Z
RRULE:FREQ=YEARLY;BYMONTH=10;BYDAY=-1SU
END:STANDARD
END:VTIMEZONE
BEGIN:VEVENT
SUMMARY:Имперский город кампания с Очка
	ми Героя
DTSTAMP:20250310T143445Z
SEQUENCE:0
UID:14178-1-afb15bc42254ad5fb0481ce5e9c8144d@forum.bandits-clan.ru
ORGANIZER;CN="Bandit":web@bandits-clan.ru
DESCRIPTION:Фановый PVP Е-баш
	 рейд по Имперке/Сиро. 1
	 час (не опоздываем). 
	\n\nТребования:\nБаш 
	билд (на любой класс 
	я могу дать сборку - с
	обрать и приходить)
	.\n\nХилам\, бомбе
	рам и т.д. могу дат
	ь индивидуальное 
	разрешение посети
	ть рейд.\nХП от 30
	к\n\nНет скилло
	в снимающих/о
	чищающих негат
	ивные эффекты.\
	n\nЗелье обнар
	ужения у кажд
	ого в наличии.
	(скрафтить или
	 купить в гиль
	дийских магазинах
	)\n\nПредварительная
	 запись (кликаем и 
	выбираем роль)\n\n Алья
	нс - Даггерфолл Ковенанта\n Накидка
	 гильдии Daggerfall Bandits\n от 16
	0 ОГ\n Вниматель
	но и точно выполн
	ять команды РЛ-а\n Устано
	вленный и настроенный а
	ддон tim99s FTSIO (в наст
	ройках поста
	вить все три 
	галочки\, в у
	правлении назначить кно
	пку) Записаться на событие и принять уч
	астие
DTSTART:20250311T180000Z
DTEND:20250311T180500Z
END:VEVENT
END:VCALENDAR
