BEGIN:VCALENDAR
VERSION:2.0
PRODID:-//InvisionCommunity Events 4.7.14//EN
METHOD:PUBLISH
CALSCALE:GREGORIAN
REFRESH-INTERVAL:PT15M
X-PUBLISHED-TTL:PT15M
X-WR-CALNAME:The Elder Scrolls Online
NAME:The Elder Scrolls Online
BEGIN:VTIMEZONE
TZID:Europe/London
TZURL:http://tzurl.org/zoneinfo/Europe/London
X-LIC-LOCATION:Europe/London
BEGIN:DAYLIGHT
TZOFFSETFROM:+0000
TZOFFSETTO:+0100
TZNAME:BST
DTSTART:20250330T020000Z
RRULE:FREQ=YEARLY;BYMONTH=3;BYDAY=-1SU
END:DAYLIGHT
BEGIN:STANDARD
TZOFFSETFROM:+0100
TZOFFSETTO:+0000
TZNAME:GMT
DTSTART:20251026T020000Z
RRULE:FREQ=YEARLY;BYMONTH=10;BYDAY=-1SU
END:STANDARD
END:VTIMEZONE
BEGIN:VEVENT
SUMMARY:Ветеранское испытание Риф Злов
	ещих Парусов (vDSR)
DTSTAMP:20250310T095857Z
SEQUENCE:0
UID:14177-1-afb15bc42254ad5fb0481ce5e9c8144d@forum.bandits-clan.ru
ORGANIZER;CN="Bandit":web@bandits-clan.ru
DESCRIPTION:Обучающий рейд. С
	бор за 10 минут до начала
	 рейда. \n**Требования:
	**\n- Закладывайте 3 ч
	аса времени на 
	обучайку\, очен
	ь много объясн
	ять! \n- Записыв
	аемся соглас
	но ростеру в перво
	м сообщении ветки.
	 (Ростер для обучайки
	 примерный\, 100% соответствие не т
	ребуется) \n- Звание Master Bandit\n- ДПС от 90
	 тыс.\n- Аддон Qcell's Dreadsail Reef Helper\n- Аддон Qcell's
	 DSRHelper. LangPatch\n- Дополнени
	е Высокий Остров или подпис
	ка\n \nПлановое время рейда
	: 3 часа!!!!! \n \n Записаться на событие и
	 принять участие
DTSTART:20250316T100000Z
DTEND:20250316T100500Z
END:VEVENT
END:VCALENDAR
