BEGIN:VCALENDAR
VERSION:2.0
PRODID:-//InvisionCommunity Events 4.7.14//EN
METHOD:PUBLISH
CALSCALE:GREGORIAN
REFRESH-INTERVAL:PT15M
X-PUBLISHED-TTL:PT15M
X-WR-CALNAME:The Elder Scrolls Online
NAME:The Elder Scrolls Online
BEGIN:VTIMEZONE
TZID:Europe/London
TZURL:http://tzurl.org/zoneinfo/Europe/London
X-LIC-LOCATION:Europe/London
BEGIN:DAYLIGHT
TZOFFSETFROM:+0000
TZOFFSETTO:+0100
TZNAME:BST
DTSTART:20250330T020000Z
RRULE:FREQ=YEARLY;BYMONTH=3;BYDAY=-1SU
END:DAYLIGHT
BEGIN:STANDARD
TZOFFSETFROM:+0100
TZOFFSETTO:+0000
TZNAME:GMT
DTSTART:20251026T020000Z
RRULE:FREQ=YEARLY;BYMONTH=10;BYDAY=-1SU
END:STANDARD
END:VTIMEZONE
BEGIN:VEVENT
SUMMARY:Ветеранское испытание Риф Злов
	ещих Парусов (vDSR)
DTSTAMP:20250309T141039Z
SEQUENCE:0
UID:14174-1-afb15bc42254ad5fb0481ce5e9c8144d@forum.bandits-clan.ru
ORGANIZER;CN="Bandit":web@bandits-clan.ru
DESCRIPTION:Фармовый ре
	йд. Знание и уме
	ние в механики
	 обязательно (
	мехи будут делат
	ь те\, кто хуже ос
	тальных дамажит по 
	аттестации) Сбор за 10 м
	инут до начала рейда. \n**Требования
	:**\n- Звание Master Bandit\n- ДПС от 90 тыс.\n- Аддон 
	Qcell's Dreadsail Reef Helper\n- Аддон Qcell's DSRHelper. LangPatc
	h\n- Дополнение Высо
	кий Остров или подписка
	\n \nПлановое время рейд
	а: 2 часа 5 минут\n \n Записаться на событ
	ие и принять участие
DTSTART:20250315T170000Z
DTEND:20250315T170500Z
END:VEVENT
END:VCALENDAR
