BEGIN:VCALENDAR
VERSION:2.0
PRODID:-//InvisionCommunity Events 4.7.14//EN
METHOD:PUBLISH
CALSCALE:GREGORIAN
REFRESH-INTERVAL:PT15M
X-PUBLISHED-TTL:PT15M
X-WR-CALNAME:The Elder Scrolls Online
NAME:The Elder Scrolls Online
BEGIN:VTIMEZONE
TZID:Europe/London
TZURL:http://tzurl.org/zoneinfo/Europe/London
X-LIC-LOCATION:Europe/London
BEGIN:DAYLIGHT
TZOFFSETFROM:+0000
TZOFFSETTO:+0100
TZNAME:BST
DTSTART:20250330T020000Z
RRULE:FREQ=YEARLY;BYMONTH=3;BYDAY=-1SU
END:DAYLIGHT
BEGIN:STANDARD
TZOFFSETFROM:+0100
TZOFFSETTO:+0000
TZNAME:GMT
DTSTART:20251026T020000Z
RRULE:FREQ=YEARLY;BYMONTH=10;BYDAY=-1SU
END:STANDARD
END:VTIMEZONE
BEGIN:VEVENT
SUMMARY:Имперский город кампания без О
	чков Героя
DTSTAMP:20250308T185748Z
SEQUENCE:0
UID:14169-1-afb15bc42254ad5fb0481ce5e9c8144d@forum.bandits-clan.ru
ORGANIZER;CN="Bandit":web@bandits-clan.ru
DESCRIPTION:Обучающий р
	ейд в Имперски
	й город без ОГ (К
	АНАЛИЗАЦИЯ) для но
	вичков и твинков. П
	ланируемое время:
	  1-2 часа.\nОкунае
	мся с головой 
	в пучину подз
	емки Имперки\,
	 наслаждаемся 
	видами)\nПрохо
	дим по всем скай
	шардам и боссам кан
	ализации\, заглядыва
	ем к Молаг Балу.\n \nТ
	ребования:\n- Альянс 
	- Даггерфольский Ковен
	ант\n- Персонаж от 10 уровня\n- Нак
	идка гильдии Daggerfall Bandits (новички
	 и еще не состоящие в Daggerf
	all Bandits могут приходить в
	 накидках сообщества Bandits\, в даль
	нейшем ждем вас в Daggerfall 
	Bandits) Записаться на событие и принять у
	частие
DTSTART:20250315T160000Z
DTEND:20250315T160500Z
END:VEVENT
END:VCALENDAR
