BEGIN:VCALENDAR
VERSION:2.0
PRODID:-//InvisionCommunity Events 4.7.14//EN
METHOD:PUBLISH
CALSCALE:GREGORIAN
REFRESH-INTERVAL:PT15M
X-PUBLISHED-TTL:PT15M
X-WR-CALNAME:The Elder Scrolls Online
NAME:The Elder Scrolls Online
BEGIN:VTIMEZONE
TZID:Europe/London
TZURL:http://tzurl.org/zoneinfo/Europe/London
X-LIC-LOCATION:Europe/London
BEGIN:DAYLIGHT
TZOFFSETFROM:+0000
TZOFFSETTO:+0100
TZNAME:BST
DTSTART:20250330T020000Z
RRULE:FREQ=YEARLY;BYMONTH=3;BYDAY=-1SU
END:DAYLIGHT
BEGIN:STANDARD
TZOFFSETFROM:+0100
TZOFFSETTO:+0000
TZNAME:GMT
DTSTART:20251026T020000Z
RRULE:FREQ=YEARLY;BYMONTH=10;BYDAY=-1SU
END:STANDARD
END:VTIMEZONE
BEGIN:VEVENT
SUMMARY:Сиродиил кампания с Очками Героя
DTSTAMP:20250227T063931Z
SEQUENCE:0
UID:14143-1-afb15bc42254ad5fb0481ce5e9c8144d@forum.bandits-clan.ru
ORGANIZER;CN="Bandit":web@bandits-clan.ru
DESCRIPTION:Статик\, доп
	уск только по сог
	ласованию билда с Р
	Лом.\nТребования:\n- А
	льянс - Даггерфолл Ковенан
	та\n- Персонаж от 160 очков геро
	я\n- 35к ХП\n- Настроенные аддоны: AgonyWarning
	\, RdK Group Tool\n- Накидка гильди
	и Bandits Записаться на событие и принять уч
	астие
DTSTART:20250305T170000Z
DTEND:20250305T170500Z
END:VEVENT
END:VCALENDAR
