BEGIN:VCALENDAR
VERSION:2.0
PRODID:-//InvisionCommunity Events 4.7.14//EN
METHOD:PUBLISH
CALSCALE:GREGORIAN
REFRESH-INTERVAL:PT15M
X-PUBLISHED-TTL:PT15M
X-WR-CALNAME:The Elder Scrolls Online
NAME:The Elder Scrolls Online
BEGIN:VTIMEZONE
TZID:Europe/London
TZURL:http://tzurl.org/zoneinfo/Europe/London
X-LIC-LOCATION:Europe/London
BEGIN:DAYLIGHT
TZOFFSETFROM:+0000
TZOFFSETTO:+0100
TZNAME:BST
DTSTART:20250330T020000Z
RRULE:FREQ=YEARLY;BYMONTH=3;BYDAY=-1SU
END:DAYLIGHT
BEGIN:STANDARD
TZOFFSETFROM:+0100
TZOFFSETTO:+0000
TZNAME:GMT
DTSTART:20251026T020000Z
RRULE:FREQ=YEARLY;BYMONTH=10;BYDAY=-1SU
END:STANDARD
END:VTIMEZONE
BEGIN:VEVENT
SUMMARY:Ветеран
	ское испытание Риф Зло
	вещих Парусов Усложнение на всех боссах 
	(vDSR HM+3)
DTSTAMP:20250218T194824Z
SEQUENCE:0
UID:14111-1-afb15bc42254ad5fb0481ce5e9c8144d@forum.bandits-clan.ru
ORGANIZER;CN="Bandit":web@bandits-clan.ru
DESCRIPTION:продолжаем п
	рогресс рейд на
	чатый c@6akой. приор
	итет стареньким иг
	рокам. добор нович
	ков опытом от vDSR+
	2. занимаем сво
	и позиции согл
	асно ростеру (я н
	е запоминал кто на
	 какой позиции\, напом
	инайте). Сбор за 10 минут до
	 начала рейда. \n**Требования:**\n- Звани
	е Superior Bandit\n- ДПС от 110 тыс.\n- Аддон Qcell's Dreads
	ail Reef Helper\n- Аддон Qcell's DSRHelper. LangPatch
	\n- Дополнение Высо
	кий Остров или подпис
	ка\n \nПлановое врем
	я рейда: 2 часа + 45 
	минут дополнит
	ельного времени 
	при общем согласии \n \n Записатьс
	я на событие и принять участие
DTSTART:20250223T130000Z
DTEND:20250223T130500Z
END:VEVENT
END:VCALENDAR
