BEGIN:VCALENDAR
VERSION:2.0
PRODID:-//InvisionCommunity Events 4.7.14//EN
METHOD:PUBLISH
CALSCALE:GREGORIAN
REFRESH-INTERVAL:PT15M
X-PUBLISHED-TTL:PT15M
X-WR-CALNAME:The Elder Scrolls Online
NAME:The Elder Scrolls Online
BEGIN:VTIMEZONE
TZID:Europe/London
TZURL:http://tzurl.org/zoneinfo/Europe/London
X-LIC-LOCATION:Europe/London
BEGIN:DAYLIGHT
TZOFFSETFROM:+0000
TZOFFSETTO:+0100
TZNAME:BST
DTSTART:20250330T020000Z
RRULE:FREQ=YEARLY;BYMONTH=3;BYDAY=-1SU
END:DAYLIGHT
BEGIN:STANDARD
TZOFFSETFROM:+0100
TZOFFSETTO:+0000
TZNAME:GMT
DTSTART:20251026T020000Z
RRULE:FREQ=YEARLY;BYMONTH=10;BYDAY=-1SU
END:STANDARD
END:VTIMEZONE
BEGIN:VEVENT
SUMMARY:Ветеранское испытание Риф Злов
	ещих Парусов (vDSR)
DTSTAMP:20250217T100045Z
SEQUENCE:0
UID:14102-1-afb15bc42254ad5fb0481ce5e9c8144d@forum.bandits-clan.ru
ORGANIZER;CN="Bandit":web@bandits-clan.ru
DESCRIPTION:Обу...что?..чайк
	а! Не бойтесь 
	и не переживайте\,
	 приходите УЧИТЬСЯ
	! НУЖНО БОЛЬШЕ СТУДЕНТ
	ОВ!!! Сбор за 10 минут до нача
	ла рейда. \n**Требования:**\n- ДПС от 70 тыс
	.\n- Аддон Qcell's Dreadsail Reef Helper\n- Аддон Qcell's DSRHel
	per. LangPatch\n- Дополнение
	 Высокий Остров или под
	писка\n \nПлановое врем
	я рейда: 2 часа 5 минут\n \n За
	писаться на событие и принять участие
DTSTART:20250220T160000Z
DTEND:20250220T160500Z
END:VEVENT
END:VCALENDAR
