BEGIN:VCALENDAR
VERSION:2.0
PRODID:-//InvisionCommunity Events 4.7.14//EN
METHOD:PUBLISH
CALSCALE:GREGORIAN
REFRESH-INTERVAL:PT15M
X-PUBLISHED-TTL:PT15M
X-WR-CALNAME:The Elder Scrolls Online
NAME:The Elder Scrolls Online
BEGIN:VTIMEZONE
TZID:Europe/London
TZURL:http://tzurl.org/zoneinfo/Europe/London
X-LIC-LOCATION:Europe/London
BEGIN:DAYLIGHT
TZOFFSETFROM:+0000
TZOFFSETTO:+0100
TZNAME:BST
DTSTART:20250330T020000Z
RRULE:FREQ=YEARLY;BYMONTH=3;BYDAY=-1SU
END:DAYLIGHT
BEGIN:STANDARD
TZOFFSETFROM:+0100
TZOFFSETTO:+0000
TZNAME:GMT
DTSTART:20251026T020000Z
RRULE:FREQ=YEARLY;BYMONTH=10;BYDAY=-1SU
END:STANDARD
END:VTIMEZONE
BEGIN:VEVENT
SUMMARY:Имперский город кампания с Очка
	ми Героя
DTSTAMP:20250216T080540Z
SEQUENCE:0
UID:14095-1-afb15bc42254ad5fb0481ce5e9c8144d@forum.bandits-clan.ru
ORGANIZER;CN="Bandit":web@bandits-clan.ru
DESCRIPTION:Сиродильск
	ий час/ Имперск
	ий часфановый пв
	п-рейд  по Имперке/С
	иродилу\n1 час обяза
	тельно - второй по 
	желанию\n\nНе делаем кв
	есты\n\nТребования:\nРанг з
	вания в гильдии от TrueBandit\, роль в диск
	орде - @True Bandits TESO  и вы
	ше (или индиви
	дуальное разр
	ешение от меня
	 посетить рейд)\nАльянс
	 - Даггерфолл Ковенанта\nНакидка ги
	льдии Daggerfall Bandits\nот 160
	 ОГ\nВнимательн
	о и точно выполнят
	ь команды РЛ-а\n\nУстановл
	енный и настроенный адд
	он tim99s FTSIO (в настро
	йках постави
	ть все три гал
	очки\, в упра
	влении назначить кнопку) Запи
	саться на событие и принять участие
DTSTART:20250220T180000Z
DTEND:20250220T180500Z
END:VEVENT
END:VCALENDAR
