BEGIN:VCALENDAR
VERSION:2.0
PRODID:-//InvisionCommunity Events 4.7.14//EN
METHOD:PUBLISH
CALSCALE:GREGORIAN
REFRESH-INTERVAL:PT15M
X-PUBLISHED-TTL:PT15M
X-WR-CALNAME:The Elder Scrolls Online
NAME:The Elder Scrolls Online
BEGIN:VTIMEZONE
TZID:Europe/London
TZURL:http://tzurl.org/zoneinfo/Europe/London
X-LIC-LOCATION:Europe/London
BEGIN:DAYLIGHT
TZOFFSETFROM:+0000
TZOFFSETTO:+0100
TZNAME:BST
DTSTART:20250330T020000Z
RRULE:FREQ=YEARLY;BYMONTH=3;BYDAY=-1SU
END:DAYLIGHT
BEGIN:STANDARD
TZOFFSETFROM:+0100
TZOFFSETTO:+0000
TZNAME:GMT
DTSTART:20251026T020000Z
RRULE:FREQ=YEARLY;BYMONTH=10;BYDAY=-1SU
END:STANDARD
END:VTIMEZONE
BEGIN:VEVENT
SUMMARY:Имперский город кампания с Очка
	ми Героя
DTSTAMP:20250203T224709Z
SEQUENCE:0
UID:14063-1-afb15bc42254ad5fb0481ce5e9c8144d@forum.bandits-clan.ru
ORGANIZER;CN="Bandit":web@bandits-clan.ru
DESCRIPTION:Закрытый 
	фановый пвп-р
	ейд Имперской 
	братвы  по Импе
	рке/Сиродилу. 2
	 часаЖелающие попа
	сть в рейд и по всем вопр
	осам пишем мне в личку 
	 \n\nТребования:\n\n    А
	льянс - Даггерфолл Ковенанта\n    На
	кидка гильдии Daggerfall Bandits\n   
	 от 160 ОГ\n\nПолны
	й список требо
	ваний в закрыт
	ой группе \"Имперская
	 братва\" Записаться на событие и приня
	ть участие
DTSTART:20250209T160000Z
DTEND:20250209T160500Z
END:VEVENT
END:VCALENDAR
