BEGIN:VCALENDAR
VERSION:2.0
PRODID:-//InvisionCommunity Events 4.7.14//EN
METHOD:PUBLISH
CALSCALE:GREGORIAN
REFRESH-INTERVAL:PT15M
X-PUBLISHED-TTL:PT15M
X-WR-CALNAME:The Elder Scrolls Online
NAME:The Elder Scrolls Online
BEGIN:VTIMEZONE
TZID:Europe/London
TZURL:http://tzurl.org/zoneinfo/Europe/London
X-LIC-LOCATION:Europe/London
BEGIN:DAYLIGHT
TZOFFSETFROM:+0000
TZOFFSETTO:+0100
TZNAME:BST
DTSTART:20250330T020000Z
RRULE:FREQ=YEARLY;BYMONTH=3;BYDAY=-1SU
END:DAYLIGHT
BEGIN:STANDARD
TZOFFSETFROM:+0100
TZOFFSETTO:+0000
TZNAME:GMT
DTSTART:20251026T020000Z
RRULE:FREQ=YEARLY;BYMONTH=10;BYDAY=-1SU
END:STANDARD
END:VTIMEZONE
BEGIN:VEVENT
SUMMARY:Сиродиил кампания с Очками Героя
DTSTAMP:20250120T000320Z
SEQUENCE:0
UID:14027-1-afb15bc42254ad5fb0481ce5e9c8144d@forum.bandits-clan.ru
ORGANIZER;CN="Bandit":web@bandits-clan.ru
DESCRIPTION:Фановый откр
	ытый рейд в Серую 
	Рать.1 час обязатель
	ный - дальше по жела
	нию.\n\nТребования:\n
	Альянс - Ковенанта  
	Даггерфолла\nПерсо
	наж от 160 Очков героя\nБи
	лды - ДК живешь сам и 
	наносишь урон.  \n3-4
	 хила/саппортера.\nМожно бомбером
	.\nНакидка гильдии DaggerFall B
	andits\n\nВниматель
	но и точно вып
	олнять команды РЛ-а Записаться на событ
	ие и принять участие
DTSTART:20250122T170000Z
DTEND:20250122T170500Z
END:VEVENT
END:VCALENDAR
