BEGIN:VCALENDAR
VERSION:2.0
PRODID:-//InvisionCommunity Events 4.7.14//EN
METHOD:PUBLISH
CALSCALE:GREGORIAN
REFRESH-INTERVAL:PT15M
X-PUBLISHED-TTL:PT15M
X-WR-CALNAME:The Elder Scrolls Online
NAME:The Elder Scrolls Online
BEGIN:VTIMEZONE
TZID:Europe/London
TZURL:http://tzurl.org/zoneinfo/Europe/London
X-LIC-LOCATION:Europe/London
BEGIN:DAYLIGHT
TZOFFSETFROM:+0000
TZOFFSETTO:+0100
TZNAME:BST
DTSTART:20250330T020000Z
RRULE:FREQ=YEARLY;BYMONTH=3;BYDAY=-1SU
END:DAYLIGHT
BEGIN:STANDARD
TZOFFSETFROM:+0100
TZOFFSETTO:+0000
TZNAME:GMT
DTSTART:20251026T020000Z
RRULE:FREQ=YEARLY;BYMONTH=10;BYDAY=-1SU
END:STANDARD
END:VTIMEZONE
BEGIN:VEVENT
SUMMARY:Имперский город кампания без О
	чков Героя
DTSTAMP:20250119T193330Z
SEQUENCE:0
UID:14025-1-afb15bc42254ad5fb0481ce5e9c8144d@forum.bandits-clan.ru
ORGANIZER;CN="Bandit":web@bandits-clan.ru
DESCRIPTION:Имперский го
	род без ОГ (обучаю
	щий).Минимум 1 час 
	(обязательная ча
	сть). Делаем квест
	ы\, бьем боссов.\nВозм
	ожно под конец Молаг Б
	ал и заход в Сиро бе
	з ОГ\n \nТребования:\n-
	 Альянс - Даггерфол
	ьский Ковенант\n- Персонаж от 1
	0 уровня\n- Накидка гильдии Dagg
	erfall Bandits (новички могут прих
	одить в накидках соо
	бщества Bandits)\n\nР
	ейд состоит
	ся при налич
	ии минимум 6 
	записавшихся игроков Записаться на 
	событие и принять участие
DTSTART:20250125T160000Z
DTEND:20250125T160500Z
END:VEVENT
END:VCALENDAR
